BEGIN:VCALENDAR
VERSION:2.0
PRODID:-//ChamberMaster//Event Calendar 2.0//EN
METHOD:PUBLISH
X-PUBLISHED-TTL:P3D
REFRESH-INTERVAL:P3D
CALSCALE:GREGORIAN
BEGIN:VEVENT
DTSTART:20110623T163000Z
DTEND:20110623T183000Z
X-MICROSOFT-CDO-ALLDAYEVENT:FALSE
SUMMARY:Multi-Chamber Illinois Legislative Update Luncheon
DESCRIPTION:Illinois State Senator Carole Pankau (R-23rd District) and State Representative Dennis Reboletti (R-46th District) will talk business with members from the Elmhurst Chamber of Commerce & Industry and eight other chambers at Medinah Shrine Center in Addison on Thursday\, June 23.  Registration is at 11:30 a.m.\, the luncheon service is at 12 noon.\n\n\n\nParticipating Chambers:  Addison\, Bloomingdale\, Elk Grove\, Elmhurst\, Glendale Heights\, Greater O'Hare Association\, Itasca\, Lombard\, Villa Park\, and Woodale.
X-ALT-DESC;FMTTYPE=text/html:<br />\nIllinois State Senator Carole Pankau (R-23rd District)&nbsp\;and State Representative Dennis Reboletti (R-46th District)&nbsp\;will talk business with members from the Elmhurst Chamber of Commerce &amp\; Industry and eight other chambers at Medinah Shrine Center in Addison on Thursday\, June 23.&nbsp\; Registration is at 11:30 a.m.\, the luncheon service is at 12 noon.<br />\n<br />\n<strong>Participating Chambers</strong>:&nbsp\; Addison\, Bloomingdale\, Elk Grove\, Elmhurst\, Glendale Heights\, Greater O&#39\;Hare Association\, Itasca\, Lombard\, Villa Park\, and Woodale.
LOCATION:Medinah Shrine Center 550 Shriners Drive Addison\, Illinois
UID:e.333.4150
SEQUENCE:3
DTSTAMP:20260425T174238Z
URL:https://chambermaster.elmhurstchamber.org/events/details/multi-chamber-illinois-legislative-update-luncheon-06-23-2011-4150
END:VEVENT

END:VCALENDAR
