BEGIN:VCALENDAR
VERSION:2.0
PRODID:-//ChamberMaster//Event Calendar 2.0//EN
METHOD:PUBLISH
X-PUBLISHED-TTL:P3D
REFRESH-INTERVAL:P3D
CALSCALE:GREGORIAN
BEGIN:VEVENT
DTSTART:20110324T160000Z
DTEND:20110324T183000Z
X-MICROSOFT-CDO-ALLDAYEVENT:FALSE
SUMMARY:Multi-Chamber March Luncheon
DESCRIPTION:The annual Multi-Chamber March Luncheon will be held on Thursday\, March 24\, at Bobak's Signature Events at Seven Bridges in Woodridge.  The Keynote Speaker will be Ed Rensi\, former President and CEO of McDonald's USA.\n\n	 \n\n	Elmhurst is among 18 participating chambers.  Other chambers include Addison\, Bartlett\, Bloomingdale\, Bolingbrook\, Carol Stream\, Darien\, Downers Grove\, Glen Ellyn\, Hinsdale\, Lisle\, Lombard\, Villa Park\, Western DuPage (formerly Warrenville and West Chicago)\, Westmont\, Wheaton\, Winfield and Woodridge.\n\n	 \n\n	\n		Keynote Speaker\n	\n		Ed Rensi\n\n		www.edrensi.com\n	\n		 \n	\n		Ed Rensi started his career flipping burgers at McDonald's\, which turned into a 32-year career. He started his McDonald's career as a grill man earning 85 cents per hour\, then moved from the grill through management holding titles of Senior Vice President Operations and Training\, Senior Executive Vice President\, Chief Operations Officer World Wide and from 1984 to 1998\, President and CEO McDonald's USA.  Throughout his career Ed never lost sight of the fact that the success of a 40 billion dollar corporation is driven by satisfying 40 million customers at the front counter\, one-at-a-time\, every day. Professional speaker who speaks on topics that include Leadership\, Marketing and Team Work.
X-ALT-DESC;FMTTYPE=text/html:<div>\n	The&nbsp\;annual Multi-Chamber March Luncheon will be held on Thursday\, March 24\, at Bobak&rsquo\;s Signature Events at Seven Bridges in Woodridge.&nbsp\;&nbsp\;The Keynote Speaker will be Ed Rensi\, former President and CEO of McDonald&#39\;s USA.</div>\n<div>\n	&nbsp\;</div>\n<div>\n	Elmhurst&nbsp\;is among 18 participating chambers.&nbsp\; Other chambers include Addison\, Bartlett\, Bloomingdale\, Bolingbrook\,&nbsp\;Carol Stream\, Darien\,&nbsp\;Downers Grove\, Glen Ellyn\, Hinsdale\,&nbsp\;Lisle\, Lombard\, Villa Park\, Western DuPage (formerly Warrenville and West Chicago)\,&nbsp\;Westmont\, Wheaton\, Winfield&nbsp\;and Woodridge.</div>\n<div>\n	&nbsp\;</div>\n<div>\n	<div>\n		<u><font size="3"><b><span style="mso-bidi-font-family: gillsans-bold">Keynote Speaker</span></b></font></u></div>\n	<div>\n		<font size="3"><b><i><span style="mso-bidi-font-family: gillsans-bolditalic">Ed Rensi<br />\n		<a href="http://www.edrensi.com">www.edrensi.com</a></span></i></b></font></div>\n	<div>\n		&nbsp\;</div>\n	<div>\n		<span style="font-size: 10pt\; mso-bidi-font-family: minionpro-regular\; mso-ansi-language: en-us\; mso-fareast-language: en-us\; mso-bidi-language: ar-sa">Ed Rensi started his career flipping burgers at McDonald&#39\;s\, which turned into a 32-year career. He started his McDonald&#39\;s career as a grill man earning 85 cents per hour\, then moved from the grill through management holding titles of Senior Vice President Operations and Training\, Senior Executive Vice President\, Chief Operations Officer World Wide and from 1984 to 1998\, President and CEO McDonald&#39\;s USA.&nbsp\; Throughout his career Ed never lost sight of the fact that the success of a 40 billion dollar corporation is driven by satisfying 40 million customers at the front counter\, one-at-a-time\, every day. Professional speaker who speaks on topics that include Leadership\, Marketing and Team Work. </span></div>\n</div>\n
LOCATION:Bobak's Signature Events at Seven Bridges6440 Double Eagle DriveWoodridge\, IL 60517
UID:e.333.3681
SEQUENCE:3
DTSTAMP:20260425T221928Z
URL:https://chambermaster.elmhurstchamber.org/events/details/multi-chamber-march-luncheon-03-24-2011-3681
END:VEVENT

END:VCALENDAR
