BEGIN:VCALENDAR
VERSION:2.0
PRODID:-//ChamberMaster//Event Calendar 2.0//EN
METHOD:PUBLISH
X-PUBLISHED-TTL:P3D
REFRESH-INTERVAL:P3D
CALSCALE:GREGORIAN
BEGIN:VEVENT
DTSTART:20260513T220000Z
DTEND:20260514T003000Z
X-MICROSOFT-CDO-ALLDAYEVENT:FALSE
SUMMARY:Multi-Chamber Speed Networking Breakfast
DESCRIPTION:Elmhurst is among the West Suburban Chamber of Commerce Executives (WSCCE) members participating in the Multi-Connections After Hours Speed Networking & Expo at the Carriage Greens Country Club  Chicago-Carol Stream on Tuesday\, April 16\, from 8 to 9:30 a.m.\n\n\n\nAppetizers and 1 drink ticket included.
X-ALT-DESC;FMTTYPE=text/html:Elmhurst is among the West Suburban Chamber of Commerce Executives (WSCCE) members participating in the Multi-Connections After Hours Speed Networking &amp\; Expo at the Carriage Greens Country Club&nbsp\; Chicago-Carol Stream on Tuesday\, April 16\, from 8 to 9:30 a.m.<br />\n<br />\nAppetizers and 1 drink ticket included.<br />\n<br />\n&nbsp\;
LOCATION:Holiday Inn & Suites Chicago-Carol Stream 105 S. Gary Ave. Carol Stream\, IL 60188
UID:e.333.17156
SEQUENCE:3
DTSTAMP:20260421T225345Z
URL:https://chambermaster.elmhurstchamber.org/events/details/multi-chamber-speed-networking-breakfast-17156
END:VEVENT

END:VCALENDAR
