BEGIN:VCALENDAR
VERSION:2.0
PRODID:-//ChamberMaster//Event Calendar 2.0//EN
METHOD:PUBLISH
X-PUBLISHED-TTL:P3D
REFRESH-INTERVAL:P3D
CALSCALE:GREGORIAN
BEGIN:VEVENT
DTSTART:20131012T180000Z
DTEND:20131012T200000Z
X-MICROSOFT-CDO-ALLDAYEVENT:FALSE
SUMMARY:Multi-Strand Bead Stringing
DESCRIPTION:October 12 "Multi-strand Bead Stringing" For those times when a single strand is not enough\, learn to combine various beads and chain to create one piece of jewelry with a layered look. Students will receive kits with sufficient materials to complete a 3-strand necklace. Use of stringing wire\, crimp tubes\, 3:1 connectors and various clasps will be taught. Tools for use in the class will be provided or students may bring their own. Round nose\, chain nose and crimping pliers plus wire cutters will be used. Activity for ages 16 and up. 1 p.m. to 3 p.m. $35.00 per person. Reservations Required: (630) 833-1616.
X-ALT-DESC;FMTTYPE=text/html:October 12 &quot\;Multi-strand Bead Stringing&quot\; For those times when a single strand is not enough\, learn to combine various beads and chain to create one piece of jewelry with a layered look. Students will receive kits with sufficient materials to complete a 3-strand necklace. Use of stringing wire\, crimp tubes\, 3:1 connectors and various clasps will be taught. Tools for use in the class will be provided or students may bring their own. Round nose\, chain nose and crimping pliers plus wire cutters will be used. Activity&nbsp\;for ages 16 and up. 1 p.m. to 3 p.m. $35.00 per person. Reservations Required: (630) 833-1616. 
LOCATION:Lizzadro Museum of Lapidary Art 220 Cottage Hill Ave.\, Elmhurst
UID:e.333.5859
SEQUENCE:3
DTSTAMP:20260424T100739Z
URL:https://chambermaster.elmhurstchamber.org/events/details/multi-strand-bead-stringing-10-12-2013-5859
END:VEVENT

END:VCALENDAR
