BEGIN:VCALENDAR
VERSION:2.0
PRODID:-//ChamberMaster//Event Calendar 2.0//EN
METHOD:PUBLISH
X-PUBLISHED-TTL:P3D
REFRESH-INTERVAL:P3D
CALSCALE:GREGORIAN
BEGIN:VEVENT
DTSTART:20110617T000000Z
DTEND:20110617T020000Z
X-MICROSOFT-CDO-ALLDAYEVENT:FALSE
SUMMARY:Murder Mystery Book Launch
DESCRIPTION:Join local mystery author Luisa Buehler\, Owner of The Hire Solution\, as she debuts her new book\, "The Reenactor:  A Staged Death\," the seventh and final book in her Grace Marsden Mystery series.
X-ALT-DESC;FMTTYPE=text/html:Join local mystery author Luisa Buehler\, Owner of The Hire Solution\, as she debuts her new book\, <em>&quot\;The Reenactor:&nbsp\; A Staged Death\,&quot\; </em>the seventh and final book in her Grace Marsden Mystery series.
LOCATION:Andersons Book Shop 5112 Main Street Downers Grove\, IL
UID:e.333.4224
SEQUENCE:3
DTSTAMP:20260425T173904Z
URL:https://chambermaster.elmhurstchamber.org/events/details/murder-mystery-book-launch-06-16-2011-4224
END:VEVENT

END:VCALENDAR
