BEGIN:VCALENDAR
VERSION:2.0
PRODID:-//ChamberMaster//Event Calendar 2.0//EN
METHOD:PUBLISH
X-PUBLISHED-TTL:P3D
REFRESH-INTERVAL:P3D
CALSCALE:GREGORIAN
BEGIN:VEVENT
DTSTART:20130519T180000Z
DTEND:20130519T220000Z
X-MICROSOFT-CDO-ALLDAYEVENT:FALSE
SUMMARY:Museum Day
DESCRIPTION:Celebrate International Museum Day with all four Elmhurst Museums: Elmhurst Art Museum\, Elmhurst Historical Museum\, Lizzadro Museum of Lapidary Art\, and Theatre Historical Society of America.  Park at one museum and ride a complimentary trolley to each location for free exhibits\, fun activities\, and crafts\, plus a chance to earn great prizes.  Light refreshments. \n\n	 \n\n	Elmhurst Art Museum\, 150 Cottage Hill Ave.\, Elmhurst\n\n	 \n\n	Elmhurst Historical Museum\, 120 E. Park Ave.\, Elmhurst\n\n	 \n\n	Lizzadro Museum of Lapidary Art\, 220 Cottage Hill Ave.\, Elmhurst\n\n	 \n\n	Theatre Historical Society of America\, 152 N. York Rd.\, Elmhurst
X-ALT-DESC;FMTTYPE=text/html:<p class="MsoNormal" style="margin: 0in 0in 0pt 0.1in\;">\n	<span style="font-size: 10pt\;"><font face="Calibri"><font color="#000000">Celebrate International Museum Day with all four Elmhurst Museums: Elmhurst Art Museum\, Elmhurst Historical Museum\, Lizzadro Museum of Lapidary Art\, and Theatre Historical Society of America.<span style="mso-spacerun: yes\;">&nbsp\; </span>Park at one museum and ride a complimentary trolley to each location for free exhibits\, fun activities\, and crafts\, plus a chance to earn great prizes.<span style="mso-spacerun: yes\;">&nbsp\; </span>Light refreshments. </font></font></span><br />\n	&nbsp\;</p>\n<p class="MsoNormal" style="margin: 0in 0in 0pt 0.1in\;">\n	<span style="font-size: 10pt\;"><font color="#000000"><font face="Calibri">Elmhurst Art Museum\, 150 Cottage Hill Ave.\, Elmhurst</font></font></span><br />\n	&nbsp\;</p>\n<p class="MsoNormal" style="margin: 0in 0in 0pt 0.1in\;">\n	<span style="font-size: 10pt\;"><font color="#000000"><font face="Calibri">Elmhurst Historical Museum\, 120 E. Park Ave.\, Elmhurst</font></font></span><br />\n	&nbsp\;</p>\n<p class="MsoNormal" style="margin: 0in 0in 0pt 0.1in\;">\n	<span style="font-size: 10pt\;"><font color="#000000"><font face="Calibri">Lizzadro Museum of Lapidary Art\, 220 Cottage Hill Ave.\, Elmhurst</font></font></span><br />\n	&nbsp\;</p>\n<p class="MsoNormal" style="margin: 0in 0in 0pt 0.1in\;">\n	<span style="font-size: 10pt\;"><font color="#000000"><font face="Calibri">Theatre Historical Society of America\, 152 N. York Rd.\, Elmhurst </font></font></span></p>\n
LOCATION:
UID:e.333.5194
SEQUENCE:3
DTSTAMP:20260422T180420Z
URL:https://chambermaster.elmhurstchamber.org/events/details/museum-day-05-19-2013-5194
END:VEVENT

END:VCALENDAR
