BEGIN:VCALENDAR
VERSION:2.0
PRODID:-//ChamberMaster//Event Calendar 2.0//EN
METHOD:PUBLISH
X-PUBLISHED-TTL:P3D
REFRESH-INTERVAL:P3D
CALSCALE:GREGORIAN
BEGIN:VEVENT
DTSTART:20110515T180000Z
DTEND:20110515T220000Z
X-MICROSOFT-CDO-ALLDAYEVENT:FALSE
SUMMARY:"Museum Day in Elmhurst"
DESCRIPTION:Ride the Trolley and see all four Museums in Elmhurst. Participate in activities and view exhibits at each Museum. At the Lizzadro Museum see the exhibit "Fabulous Illinois Fluorite." Children and adults can go on a "Stone Hunt" to find rocks and minerals to take home.
X-ALT-DESC;FMTTYPE=text/html:<p>\n	Ride the Trolley and see all four Museums in Elmhurst. Participate in activities and view exhibits at each Museum. At the Lizzadro Museum see the exhibit &quot\;Fabulous Illinois Fluorite.&quot\; Children and adults can go on a &quot\;Stone Hunt&quot\; to find rocks and minerals to take home.</p>\n
LOCATION:220 Cottage Hill Avenue Elmhurst\, IL 60126
UID:e.333.4218
SEQUENCE:3
DTSTAMP:20260425T192054Z
URL:https://chambermaster.elmhurstchamber.org/events/details/museum-day-in-elmhurst-05-15-2011-4218
END:VEVENT

END:VCALENDAR
