BEGIN:VCALENDAR
VERSION:2.0
PRODID:-//ChamberMaster//Event Calendar 2.0//EN
METHOD:PUBLISH
X-PUBLISHED-TTL:P3D
REFRESH-INTERVAL:P3D
CALSCALE:GREGORIAN
BEGIN:VEVENT
DTSTART:20131102T203000Z
DTEND:20131102T230000Z
X-MICROSOFT-CDO-ALLDAYEVENT:FALSE
SUMMARY:Music @ Bethel
DESCRIPTION:The first concert of the 2013 -2014 season is Choose Your Own Ending Recital on November 2 at 3:30 p.m.\, featuring singers Genevieve Thiers and Katie Calcamuggio\, accompanied by Saori Chiba. You\, the audience\, will be taken on an adventure where you choose what happens to the show's heroine--whether she falls in love\, gets married\, has kids\, gets a cat or even joins the convent! YOU are in charge!
X-ALT-DESC;FMTTYPE=text/html:<span style="font-family:times\;"><span style="font-size:11.0pt\;">The first concert of the 2013 -2014 season is Choose Your Own Ending Recital on November 2 at 3:30 p.m.\, featuring singers Genevieve Thiers and Katie Calcamuggio\, accompanied by Saori Chiba. You\, the audience\, will be taken on an adventure where you choose what happens to the show&rsquo\;s heroine--whether she falls in love\, gets married\, has kids\, gets a cat or even joins the convent! YOU are in charge!</span></span>
LOCATION:Behtel United Church of Christ 315 East\, St Charles Rd Elmhurst\, IL 60126
UID:e.333.5879
SEQUENCE:3
DTSTAMP:20260424T084828Z
URL:https://chambermaster.elmhurstchamber.org/events/details/music-bethel-11-02-2013-5879
END:VEVENT

END:VCALENDAR
