BEGIN:VCALENDAR
VERSION:2.0
PRODID:-//ChamberMaster//Event Calendar 2.0//EN
METHOD:PUBLISH
X-PUBLISHED-TTL:P3D
REFRESH-INTERVAL:P3D
CALSCALE:GREGORIAN
BEGIN:VEVENT
DTSTART:20121002T200000Z
DTEND:20121002T230000Z
X-MICROSOFT-CDO-ALLDAYEVENT:FALSE
SUMMARY:MUSIC @ BETHEL OPENS 14TH SEASON
DESCRIPTION:Sharon Chang\, recently completing her masters at Julliard in violin performance\, along with Music@Bethel's artistic director Jeffrey Panko on piano\, will tackle the Brahms Sonata in D minor for violin and piano.\n\n	An intimate afternoon of beautiful music awaits when cellist Jocelyn Butler\, violinist Sharon Chang and pianist Jeffrey Panko join together to perform music by jazz composer Fred Hersch as well as Romantic gems by Brahms\, Franck and Rachmaninoff on Sunday\, October 14 at 3:00 pm at Bethel United Church of Christ\, 315 East St. Charles Road in Elmhurst.\n\n	The program opens with a Lyric Piece by Fred Hersch\, an aptly named composition\, very melodic with lush chords and a jazzy texture\, providing an interesting contrast to the rest of the program.\n\n	Two of the most popular sonatas in the chamber repertoire will also be presented. Cesar Franck's Sonata in A major was originally written for piano and violin\, but cellists have claimed it for their repertoire\, here being performed by one of Chicagoland's premier cellists\, Jocelyn Butler.\n\n	Lastly\, the beautiful and passionate Rachmaninoff Trio Elegiaque in G minor will bring all three of these talented musicians together to end the program.
X-ALT-DESC;FMTTYPE=text/html:<p class="MsoNormal">\n	<span style="font-family: times">Sharon Chang\, recently completing her masters at Julliard in violin performance\, along with Music@Bethel&rsquo\;s artistic director Jeffrey Panko on piano\, will tackle the Brahms Sonata in D minor for violin and piano.</span></p>\n<p class="MsoNormal">\n	<span style="font-family: times\; mso-bidi-font-size: 10.0pt">An intimate afternoon of beautiful music awaits when cellist Jocelyn Butler\, violinist Sharon Chang and pianist Jeffrey Panko join together to perform music by jazz composer Fred Hersch as well as Romantic gems by Brahms\, Franck and Rachmaninoff on Sunday\, October 14 at 3:00 pm at Bethel United Church of Christ\, 315 East St. Charles Road in Elmhurst.</span></p>\n<p class="MsoNormal">\n	<span style="font-family: times\; mso-bidi-font-size: 10.0pt">The program opens with a Lyric Piece by Fred Hersch\, an aptly named composition\, very melodic with lush chords and a jazzy texture\, providing an interesting contrast to the rest of the program.</span></p>\n<p class="MsoNormal">\n	<span style="font-family: times\; mso-bidi-font-size: 10.0pt">Two of the most popular sonatas in the chamber repertoire will also be presented. Cesar Franck&rsquo\;s Sonata in A major was originally written for piano and violin\, but cellists have claimed it for their repertoire\, here being performed by one of Chicagoland&rsquo\;s premier cellists\, Jocelyn Butler.</span></p>\n<p class="MsoNormal">\n	<span style="font-family: times\; mso-bidi-font-size: 10.0pt">Lastly\, the beautiful and passionate Rachmaninoff Trio Elegiaque in G minor will bring all three of these talented musicians together to end the program.</span></p>\n
LOCATION:Bethel United Church of Christ\, 315 East St. Charles Road in Elmhurst.
UID:e.333.5088
SEQUENCE:3
DTSTAMP:20260424T162700Z
URL:https://chambermaster.elmhurstchamber.org/events/details/music-bethel-opens-14th-season-10-02-2012-5088
END:VEVENT

END:VCALENDAR
