BEGIN:VCALENDAR
VERSION:2.0
PRODID:-//ChamberMaster//Event Calendar 2.0//EN
METHOD:PUBLISH
X-PUBLISHED-TTL:P3D
REFRESH-INTERVAL:P3D
CALSCALE:GREGORIAN
BEGIN:VEVENT
DTSTART:20120318T200000Z
DTEND:20120318T220000Z
X-MICROSOFT-CDO-ALLDAYEVENT:FALSE
SUMMARY:Music@Bethel Presents Spektral Quartet
DESCRIPTION:Hailed as one of the Top 5 classical performances by TimeOut Chicago\, the Spektral Quartet brings their adroit musicality and innovative programming to the Music@Bethel Concert Series on Sunday\, March 18\, 3 pm at Bethel United Church of Christ\, 315 East St. Charles Road in Elmhurst. \n\nOne of Chicagoland's most prominent and exciting classical ensembles\, the Spektral Quartet has exploded on the classical music scene with truly breathtaking performances and vibrant programming.  Receiving rave reviews for performances throughout the area by critics and audiences alike\, the quartet brings a palpable new energy to chamber music that routinely showcases their technical aplomb and musical versatility. Committed to performing in non-traditional venues as well as concert halls\, the foursome endeavors to perform the likes of Beethoven and Haydn alongside avant garde composers like Ad s and Glass.\n\nThe group will perform Ravel's Quartet in F major and then be joined by Music@Bethel's Artistic Director and award winning pianist Jeffrey Panko for the Shostakovich Quintet in G minor.  \n\n The intimate and acoustically pleasing sanctuary of Bethel United Church of Christ is a perfect setting for this chamber ensemble. Audience members can meet the artists at a reception immediately following the concert. Food and beverages will be served.\n\nTickets are $20 for adults\, $18 for seniors\, $5 for students\, and $45 for families. Parking is free and the church is handicapped-accessible. For more information\, visit www.Music@Bethel.com or call Bethel United Church of Christ at (630) 279-4040.\n\nThe season finale for Music@Bethel will feature the Avant World Rock group Kmang Kmang on Saturday\, April 28 at 7:30 pm.
X-ALT-DESC;FMTTYPE=text/html:<span style="font-size:11pt\;">Hailed as one of the Top 5 classical performances by TimeOut Chicago\, the Spektral Quartet brings their adroit musicality and innovative programming to the Music@Bethel Concert Series on Sunday\, March 18\, 3 pm at Bethel United Church of Christ\, 315 East St. Charles Road in Elmhurst. </span><br />\n<span style="font-size:11pt\;">One of Chicagoland&#39\;s most prominent and exciting classical ensembles\, the Spektral Quartet has exploded on the classical music scene&nbsp\;with&nbsp\;truly breathtaking performances and vibrant programming.&nbsp\; Receiving rave reviews for performances throughout the area by critics and audiences alike\, the quartet brings a palpable new energy to chamber music that routinely showcases their technical aplomb and musical versatility.&nbsp\;Committed to performing in non-traditional venues as well as concert halls\, the foursome endeavors to perform the likes of Beethoven and Haydn alongside avant garde composers like Ad&eacute\;s and Glass.</span><br />\n<span style="font-size:11pt\;">The group will perform Ravel&#39\;s Quartet in F major and then be joined by Music@Bethel&#39\;s Artistic Director and award winning pianist Jeffrey Panko for the Shostakovich Quintet in G minor. &nbsp\;</span><br />\n<span style="font-size:11pt\;">&nbsp\;The intimate and acoustically pleasing sanctuary of Bethel United Church of Christ is a perfect setting for this chamber ensemble. Audience members can meet the artists at a reception immediately following the concert.&nbsp\;Food and beverages will be served.</span><br />\n<span style="font-size:11pt\;">Tickets are $20 for adults\, $18 for seniors\, $5 for students\, and $45 for families. Parking is free and the church is handicapped-accessible. For more information\, visit <a href="http://www.Music@bethel.com/" target="_blank"><span style="color:windowtext\;">www.Music@Bethel.com</span></a></span> or call Bethel United Church of Christ at <a href="tel:%28630%29%20279-4040" target="_blank"><span style="color:windowtext\;">(630) 279-4040</span></a>.<br />\n<span style="font-size:11pt\;">The season finale for Music@Bethel will feature the Avant World Rock group Kmang Kmang on Saturday\, April 28 at 7:30 pm.</span><br />\n&nbsp\;
LOCATION:United Church of Christ\, 315 East St. Charles Road in Elmhurst
UID:e.333.4796
SEQUENCE:3
DTSTAMP:20260425T035658Z
URL:https://chambermaster.elmhurstchamber.org/events/details/music-bethel-presents-spektral-quartet-03-18-2012-4796
END:VEVENT

END:VCALENDAR
