BEGIN:VCALENDAR
VERSION:2.0
PRODID:-//ChamberMaster//Event Calendar 2.0//EN
METHOD:PUBLISH
X-PUBLISHED-TTL:P3D
REFRESH-INTERVAL:P3D
CALSCALE:GREGORIAN
BEGIN:VEVENT
DTSTART:20130524T003000Z
DTEND:20130524T020000Z
X-MICROSOFT-CDO-ALLDAYEVENT:FALSE
SUMMARY:Music for Film and Theatre
DESCRIPTION:Thursday\, May 23\, 2013\, 7:30 p.m.\n\n\n\nElmhurst Symphony Musicians in performance at Mayslake\n\n\n\nFeaturing Alison Gaines ESO Assistant Conductor\n\n\n\nJoin the Elmhurst Symphony Strings under the direction of conductor Alison Gaines for an evening of music from film and from the stage. A variety of composers and styles will be featured ranging from Mancini to Mozart. Come and test your music\, theater\, and movie trivia knowledge as the Elmhurst Symphony Strings serenade you.
X-ALT-DESC;FMTTYPE=text/html:Thursday\, May 23\, 2013\, 7:30 p.m.<br />\n<br />\nElmhurst Symphony Musicians in performance at Mayslake<br />\n<br />\nFeaturing Alison Gaines ESO Assistant Conductor<br />\n<br />\nJoin the Elmhurst Symphony Strings under the direction of conductor Alison Gaines for an evening of music from film and from the stage. A variety of composers and styles will be featured ranging from Mancini to Mozart. Come and test your music\, theater\, and movie trivia knowledge as the Elmhurst Symphony Strings serenade you.&nbsp\;
LOCATION:Mayslake Peabody Estate\, 1717 31st St\, Oak Brook\, IL 60523
UID:e.333.5250
SEQUENCE:3
DTSTAMP:20260422T180908Z
URL:https://chambermaster.elmhurstchamber.org/events/details/music-for-film-and-theatre-05-23-2013-5250
END:VEVENT

END:VCALENDAR
