BEGIN:VCALENDAR
VERSION:2.0
PRODID:-//ChamberMaster//Event Calendar 2.0//EN
METHOD:PUBLISH
X-PUBLISHED-TTL:P3D
REFRESH-INTERVAL:P3D
CALSCALE:GREGORIAN
BEGIN:VEVENT
DTSTART:20130113T140000Z
DTEND:20130121T010000Z
X-MICROSOFT-CDO-ALLDAYEVENT:FALSE
SUMMARY:National Dipped Fruit Week
DESCRIPTION:This week only we are offering our 12 count chocolate covered fruit box for only $12 (Typically $29).\n\n\n\nThese boxes are for in-store pick up only and will include a variety of fruit.
X-ALT-DESC;FMTTYPE=text/html:This week only we are offering our 12 count chocolate covered fruit box for only <u><em>$12 </em></u>(Typically $29).<br />\n<br />\nThese boxes are for in-store<strong> pick up only</strong> and will include a variety of fruit.
LOCATION:Edible Arrangements 206 N. York St.
UID:e.333.5170
SEQUENCE:3
DTSTAMP:20260424T114137Z
URL:https://chambermaster.elmhurstchamber.org/events/details/national-dipped-fruit-week-01-13-2013-5170
END:VEVENT

END:VCALENDAR
