BEGIN:VCALENDAR
VERSION:2.0
PRODID:-//ChamberMaster//Event Calendar 2.0//EN
METHOD:PUBLISH
X-PUBLISHED-TTL:P3D
REFRESH-INTERVAL:P3D
CALSCALE:GREGORIAN
BEGIN:VEVENT
DTSTART:20110827T140000Z
DTEND:20110827T170000Z
X-MICROSOFT-CDO-ALLDAYEVENT:FALSE
SUMMARY:Networlding! Create a Network That Works!
DESCRIPTION:Do you \n\n  Invest time networking without getting meaningful results?\n\n  Have a lot of connections that aren't working for you?\n\n  Wish to network with professional\, smart people like you?\n\n\n\nThen This Networlding Boot Camp Is for YOU!\n\n\n\nYou'll Learn \n\n  The 7 Steps of Networlding\n\n  How to use Networlding skills to create profitable and rewarding business & career opportunities\n\n  4 techniques that build credibility & trust\n\n  3 best strategies to access & leverage the power of your network\n\n  7 levels of support which create the most "Exchanging Relationships"\n\n  How to form a support network that will help you maximize the power of social media & your social networks\n\n\n\nTo learn more and to register\, visit http://enerpace.com/upcomingevents.html.
X-ALT-DESC;FMTTYPE=text/html:Do you&hellip\;<br />\n&bull\; Invest time networking without getting meaningful results?<br />\n&bull\; Have a lot of connections that aren&rsquo\;t working for you?<br />\n&bull\; Wish to network with professional\, smart people like you?<br />\n<br />\nThen This Networlding Boot Camp Is for YOU!<br />\n<br />\nYou&rsquo\;ll Learn&hellip\;<br />\n&bull\; The 7 Steps of Networlding<br />\n&bull\; How to use Networlding skills to create profitable and rewarding business &amp\; career opportunities<br />\n&bull\; 4 techniques that build credibility &amp\; trust<br />\n&bull\; 3 best strategies to access &amp\; leverage the power of your network<br />\n&bull\; 7 levels of support which create the most &ldquo\;Exchanging Relationships&rdquo\;<br />\n&bull\; How to form a support network that will help you maximize the power of social media &amp\; your social networks<br />\n<br />\nTo learn more and to register\, visit http://enerpace.com/upcomingevents.html.<br />\n<br />\n<br />\n
LOCATION:Elmhurst
UID:e.333.4270
SEQUENCE:3
DTSTAMP:20260425T144816Z
URL:https://chambermaster.elmhurstchamber.org/events/details/networlding-create-a-network-that-works-08-27-2011-4270
END:VEVENT

END:VCALENDAR
