BEGIN:VCALENDAR
VERSION:2.0
PRODID:-//ChamberMaster//Event Calendar 2.0//EN
METHOD:PUBLISH
X-PUBLISHED-TTL:P3D
REFRESH-INTERVAL:P3D
CALSCALE:GREGORIAN
BEGIN:VEVENT
DTSTART:20110721T220000Z
DTEND:20110722T000000Z
X-MICROSOFT-CDO-ALLDAYEVENT:FALSE
SUMMARY:New City Manager Meet and Greet
DESCRIPTION:Meet the New City Manager!\n\n\n\nOn Thursday\, July 21\, 2011\, from 5 to 7 p.m.\, the Community Bank of Elmhurst\, in partnership with the Elmhurst Chamber of Commerce\,  will be hosting an event for Chamber Members to meet the new City Manager\, James Grabowski.  The program begins at 6 p.m.
X-ALT-DESC;FMTTYPE=text/html:<br />\nMeet the New City Manager!<br />\n<br />\nOn Thursday\, July 21\, 2011\, from 5 to 7 p.m.\, the Community Bank of Elmhurst\,&nbsp\;in partnership with the Elmhurst Chamber of Commerce\, &nbsp\;will be hosting an event for Chamber Members to meet the new City Manager\, James Grabowski.&nbsp\; The program begins at 6 p.m.
LOCATION:Community Bank of Elmhurst 330 W. Butterfield Rd. Elmhurst\, IL 60126
UID:e.333.4245
SEQUENCE:3
DTSTAMP:20260425T161730Z
URL:https://chambermaster.elmhurstchamber.org/events/details/new-city-manager-meet-and-greet-07-21-2011-4245
END:VEVENT

END:VCALENDAR
