BEGIN:VCALENDAR
VERSION:2.0
PRODID:-//ChamberMaster//Event Calendar 2.0//EN
METHOD:PUBLISH
X-PUBLISHED-TTL:P3D
REFRESH-INTERVAL:P3D
CALSCALE:GREGORIAN
BEGIN:VEVENT
DTSTART;VALUE=DATE:20110831
DTEND;VALUE=DATE:20111001
TRANSP:TRANSPARENT
X-MICROSOFT-CDO-ALLDAYEVENT:TRUE
SUMMARY:New Member Campaign
DESCRIPTION:The Chamber's new member campaign\, which runs through September\, features a 16-month membership (good through 2012) at the annual cost.  Chamber membership starts at $250 per year for businesses with five employees or less\, plus a $25 registration fee.  New members can pay their Chamber dues via a monthly direct debit program.\n\n	\n\n	For a membership application\, click HERE
X-ALT-DESC;FMTTYPE=text/html:<p class="MsoBodyTextIndent" style="margin: 0in 0in 0pt">\n	<span style="font-size: 12px"><font color="#000000">The Chamber&rsquo\;s new member campaign\, which runs through September\, features a 16-month membership (good through 2012) at the annual cost.<span style="mso-spacerun: yes">&nbsp\; </span>Chamber membership starts at $250 per year for businesses with five employees or less\, plus a $25 registration fee.<span style="mso-spacerun: yes">&nbsp\; </span>New members can pay their Chamber dues via a monthly direct debit program.<br />\n	<br />\n	For a membership application\, click <a href="http://cloud.chambermaster.com/userfiles/UserFiles/chambers/333/File/2011MembershipApplication.pdf">HERE</a></font></span></p>\n
LOCATION:Elmhurst Chamber of Commerce 242 N York\, Ste 102 Elmhurst\, IL 60126
UID:e.333.4402
SEQUENCE:3
DTSTAMP:20260425T132138Z
URL:https://chambermaster.elmhurstchamber.org/events/details/new-member-campaign-08-31-2011-4402
END:VEVENT

END:VCALENDAR
