BEGIN:VCALENDAR
VERSION:2.0
PRODID:-//ChamberMaster//Event Calendar 2.0//EN
METHOD:PUBLISH
X-PUBLISHED-TTL:P3D
REFRESH-INTERVAL:P3D
CALSCALE:GREGORIAN
BEGIN:VEVENT
DTSTART:20110817T130000Z
DTEND:20110817T140000Z
X-MICROSOFT-CDO-ALLDAYEVENT:FALSE
SUMMARY:No Drugs\, No Surgery\, No Pain!
DESCRIPTION:No Drugs\, No Surgery\, No Pain!\n\n	\n\n	Kevin M. Cronin\, PT\, ATC\, JSCC\, President of ARC will be speaking about innovative\, alternative solutions for all painful conditions\, including:\n\n	1. A gentle and painless hands-on technique that frees up painful areas instantly\n\n	2. An easy to learn way for you to check and correct misalignments and muscle imbalances in your own body\n\n	3. How simple changes in your computer work station can change the way you feel\n\n	4. New technology that "feeds your body's need for energy to repair tissue and maximize cell function\n\n	\n\n	\n\n	**Attendance will be free to Chamber members and special guests.
X-ALT-DESC;FMTTYPE=text/html:<p>\n	No Drugs\, No Surgery\, No Pain!<br />\n	<br />\n	Kevin M. Cronin\, PT\, ATC\, JSCC\, President of ARC will be speaking about innovative\, alternative solutions for all painful conditions\, including:<br />\n	1. A gentle and painless hands-on technique that frees up painful areas instantly<br />\n	2. An easy to learn way for you to check and correct misalignments and muscle imbalances in your own body<br />\n	3. How simple changes in your computer work station can change the way you feel<br />\n	4. New technology that &quot\;feeds your body&#39\;s need for energy to repair tissue and maximize cell function<br />\n	<br />\n	<br />\n	**Attendance will be free to Chamber members and special guests.&nbsp\;</p>\n
LOCATION:Elmhurst Chamber of Commerce & Industry Community Bank of Elmhurst Board Room 242 N York St.\, Ste 102 Elmhurst\, IL 60126
UID:e.333.4202
SEQUENCE:3
DTSTAMP:20260425T161807Z
URL:https://chambermaster.elmhurstchamber.org/events/details/no-drugs-no-surgery-no-pain-08-17-2011-4202
END:VEVENT

END:VCALENDAR
