BEGIN:VCALENDAR
VERSION:2.0
PRODID:-//ChamberMaster//Event Calendar 2.0//EN
METHOD:PUBLISH
X-PUBLISHED-TTL:P3D
REFRESH-INTERVAL:P3D
CALSCALE:GREGORIAN
BEGIN:VEVENT
DTSTART:20111008T210000Z
DTEND:20111009T010000Z
X-MICROSOFT-CDO-ALLDAYEVENT:FALSE
SUMMARY:Ocktoberfest at Patriot Fitness and Boxing Benefitting Kickoff For Kids
DESCRIPTION:Have you heard about Patriot Boxing/Fitness?  Have you heard obout TRX?\n\n\n\nThis is your chance to see what these are all about.  Bring the whole family for Oktoberfest on 10-8-11.\n\n\n\nLive Music\, Raffle\, Kids Activities and Fun!\n\n\n\nA portion of proceeds will go to local charity- Kickoff For Kids
X-ALT-DESC;FMTTYPE=text/html:Have you heard about Patriot Boxing/Fitness? &nbsp\;Have you heard obout TRX?<br />\n<br />\nThis is your chance to see what these are all about. &nbsp\;Bring the whole family for Oktoberfest on 10-8-11.<br />\n<br />\nLive Music\, Raffle\, Kids Activities and Fun!<br />\n<br />\nA portion of proceeds will go to local charity- Kickoff For Kids<br />\n<br />\n
LOCATION:645 S. Route 83 Elmhurst\, IL 60126
UID:e.333.4518
SEQUENCE:3
DTSTAMP:20260425T132816Z
URL:https://chambermaster.elmhurstchamber.org/events/details/ocktoberfest-at-patriot-fitness-and-boxing-benefitting-kickoff-for-kids-10-08-2011-4518
END:VEVENT

END:VCALENDAR
