BEGIN:VCALENDAR
VERSION:2.0
PRODID:-//ChamberMaster//Event Calendar 2.0//EN
METHOD:PUBLISH
X-PUBLISHED-TTL:P3D
REFRESH-INTERVAL:P3D
CALSCALE:GREGORIAN
BEGIN:VEVENT
DTSTART:20121026T000000Z
DTEND:20121026T030000Z
X-MICROSOFT-CDO-ALLDAYEVENT:FALSE
SUMMARY:Oktoberfest
DESCRIPTION:Presented by the Elmhurst Junior Women's Club\n\n \n\nThe 2nd annual Oktoberfest!\n\n \n\nThursday\, October 25\, 2012\n\n7:00 p.m. to 10 p.m.\n\n \n\nMack's Golden Pheasant\n\n668 W. North Ave.\n\n \n\nTickets are $20 and include two drink tickets and traditional German appetizers.\n\n \n\n \n\nJoin the Elmhurst Junior Women's Club for an evening of fun as they host the 2nd annual Oktoberfest! Support this great local philanthropic club while having an evening out with friends\, family and neighbors. A portion of the event proceeds to benefit the EJWC Scholarship Fund & philanthropic ventures. \n\n \n\nTickets are available for advance purchase by emailing ejwc.oktoberfest@gmail.com\n\n \n\nFounded in 1997\, the EJWC is primarily philanthropic in nature\, but with an element of social interaction for women of the community. Visit www.elmhurst-juniors.org to learn about the Elmhurst Junior Women's Club.
X-ALT-DESC;FMTTYPE=text/html:Presented by the Elmhurst Junior Women&#39\;s Club<br />\n&nbsp\;<br />\nThe 2nd annual Oktoberfest!<br />\n&nbsp\;<br />\nThursday\, October 25\, 2012<br />\n7:00 p.m. to 10 p.m.<br />\n&nbsp\;<br />\nMack&#39\;s Golden Pheasant<br />\n668 W. North Ave.<br />\n&nbsp\;<br />\nTickets are $20 and include two drink tickets and traditional German appetizers.<br />\n&nbsp\;<br />\n&nbsp\;<br />\nJoin the Elmhurst Junior Women&#39\;s Club for an evening of fun as they host the 2nd annual Oktoberfest! Support this great local philanthropic club while having an evening out with friends\, family and neighbors. A portion of the event proceeds to benefit the EJWC Scholarship Fund &amp\; philanthropic ventures.&nbsp\;<br />\n&nbsp\;<br />\nTickets are available for advance purchase by emailing <a href="mailto:ejwc.oktoberfest@gmail.com">ejwc.oktoberfest@gmail.com</a><br />\n&nbsp\;<br />\nFounded in 1997\, the EJWC is primarily philanthropic in nature\, but with an element of social interaction for women of the community. Visit <a href="http://www.elmhurst-juniors.org">www.elmhurst-juniors.org</a> to learn about the Elmhurst Junior Women&#39\;s Club. 
LOCATION:Mack's Golden Pheasant 668 W North Ave
UID:e.333.5095
SEQUENCE:3
DTSTAMP:20260424T162347Z
URL:https://chambermaster.elmhurstchamber.org/events/details/oktoberfest-10-25-2012-5095
END:VEVENT

END:VCALENDAR
