BEGIN:VCALENDAR
VERSION:2.0
PRODID:-//ChamberMaster//Event Calendar 2.0//EN
METHOD:PUBLISH
X-PUBLISHED-TTL:P3D
REFRESH-INTERVAL:P3D
CALSCALE:GREGORIAN
BEGIN:VEVENT
DTSTART:20101203T003000Z
DTEND:20101203T013000Z
X-MICROSOFT-CDO-ALLDAYEVENT:FALSE
SUMMARY:Old Fashioned Tree Lighting
DESCRIPTION:Save the date for the Old Fashioned Tree Lighting celebration at Wilder Park on Thursday\, December 2 from 6:30-7:30 p.m. Enjoy the uplifting sounds offered by local choral groups as well as a visit from Santa while we ring in the holidays with thousands of breathtaking lights displayed across the park. \n\n\n\nYou or your community group can help light up the event by sponsoring a tree to be displayed around the Wilder Park grounds for just $40. Register by December 1 at the Wagner Community Center to reserve your tree location. For more information\, call (630) 993-8929.
X-ALT-DESC;FMTTYPE=text/html:Save the date for the Old Fashioned Tree Lighting celebration at Wilder Park on Thursday\, December 2 from 6:30-7:30 p.m. Enjoy the uplifting sounds offered by local choral groups as well as a visit from Santa while we ring in the holidays with thousands of breathtaking lights displayed across the park. \n<br>\n<br>You or your community group can help light up the event by sponsoring a tree to be displayed around the Wilder Park grounds for just $40. Register by December 1 at the Wagner Community Center to reserve your tree location. For more information\, call (630) 993-8929. \n<br>
LOCATION:Wilder Park
UID:e.333.3508
SEQUENCE:3
DTSTAMP:20260426T024633Z
URL:https://chambermaster.elmhurstchamber.org/events/details/old-fashioned-tree-lighting-12-02-2010-3508
END:VEVENT

END:VCALENDAR
