BEGIN:VCALENDAR
VERSION:2.0
PRODID:-//ChamberMaster//Event Calendar 2.0//EN
METHOD:PUBLISH
X-PUBLISHED-TTL:P3D
REFRESH-INTERVAL:P3D
CALSCALE:GREGORIAN
BEGIN:VEVENT
DTSTART:20101127T170000Z
DTEND:20101127T210000Z
X-MICROSOFT-CDO-ALLDAYEVENT:FALSE
SUMMARY:Open House
DESCRIPTION:Happy Thanksgiving!  Join us for our Open House.  Take a personal tour and enter our raffle to win a $100.00 gift card.
X-ALT-DESC;FMTTYPE=text/html:Happy Thanksgiving!  Join us for our Open House.  Take a personal tour and enter our raffle to win a $100.00 gift card.
LOCATION:Elmhurst Pointe 111 West Third Street
UID:e.333.3526
SEQUENCE:3
DTSTAMP:20260426T042647Z
URL:https://chambermaster.elmhurstchamber.org/events/details/open-house-11-27-2010-3526
END:VEVENT

END:VCALENDAR
