BEGIN:VCALENDAR
VERSION:2.0
PRODID:-//ChamberMaster//Event Calendar 2.0//EN
METHOD:PUBLISH
X-PUBLISHED-TTL:P3D
REFRESH-INTERVAL:P3D
CALSCALE:GREGORIAN
BEGIN:VEVENT
DTSTART:20110925T161500Z
DTEND:20110925T183000Z
X-MICROSOFT-CDO-ALLDAYEVENT:FALSE
SUMMARY:Open House and Tailgate Party
DESCRIPTION:Elmhurst's Church of Our Saviour will host an Open House and Tailgate Party to celebrate the beginning of the football season and the arrival of their new "quarterback"   the Rev. Stephen Martz -- on Sunday\, September 25 at the church located at 116 E. Church Street\, Elmhurst\, IL (corner of Church and Kenilworth in Elmhurst).\n\n\n\nFollowing 10 a.m. worship\, the Open House will take the form of a classic Tailgate Party before the Bears take on the world champion Green Bay Packers at 3:15 p.m. If you can't make it to Soldier Field that day\, the church promises Tailgating in Elmhurst will be the next best thing.\n\n\n\nBesides plenty of brats and dogs\, there will be pony rides\, a Moonwalk and other children's activities   including face painting. (Sorry\, no green and gold!) The only thing missing will be beer\, but the church promises to make up for that with plenty of root beer. There will also be a 50/50 Drawing\, and some lucky winner will receive 50%!\n\n\n\nVisitors are welcome to come for worship at 10 a.m. and stay for the Open House between 11:15 a.m. and 1:30 p.m. or to attend just the Open House and Tailgate Party.\n\n\n\nFor more information about the Church of Our Saviour or Father Martz\, come to the Open House or visit the church web site   COSWelcomesMe.org.
X-ALT-DESC;FMTTYPE=text/html:Elmhurst&rsquo\;s Church of Our Saviour will host an Open House and Tailgate Party to celebrate the beginning of the football season and the arrival of their new &ldquo\;quarterback&rdquo\; &ndash\; the Rev. Stephen Martz -- on Sunday\, September 25 at the church located at 116 E. Church Street\, Elmhurst\, IL (corner of Church and Kenilworth in Elmhurst).<br />\n<br />\nFollowing 10 a.m. worship\, the Open House will take the form of a classic Tailgate Party before the Bears take on the world champion Green Bay Packers at 3:15 p.m. If you can&rsquo\;t make it to Soldier Field that day\, the church promises Tailgating in Elmhurst will be the next best thing.<br />\n<br />\nBesides plenty of brats and dogs\, there will be pony rides\, a Moonwalk and other children&rsquo\;s activities &ndash\; including face painting. (Sorry\, no green and gold!) The only thing missing will be beer\, but the church promises to make up for that with plenty of root beer. There will also be a 50/50 Drawing\, and some lucky winner will receive 50%!<br />\n<br />\nVisitors are welcome to come for worship at 10 a.m. and stay for the Open House between 11:15 a.m. and 1:30 p.m. or to attend just the Open House and Tailgate Party.<br />\n<br />\nFor more information about the Church of Our Saviour or Father Martz\, come to the Open House or visit the church web site &ndash\; COSWelcomesMe.org.<br />\n
LOCATION:116 E. Church Street\, Elmhurst (corner of Church and Kenilworth)
UID:e.333.4427
SEQUENCE:3
DTSTAMP:20260425T132232Z
URL:https://chambermaster.elmhurstchamber.org/events/details/open-house-and-tailgate-party-09-25-2011-4427
END:VEVENT

END:VCALENDAR
