BEGIN:VCALENDAR
VERSION:2.0
PRODID:-//ChamberMaster//Event Calendar 2.0//EN
METHOD:PUBLISH
X-PUBLISHED-TTL:P3D
REFRESH-INTERVAL:P3D
CALSCALE:GREGORIAN
BEGIN:VEVENT
DTSTART:20120911T210000Z
DTEND:20120912T000000Z
X-MICROSOFT-CDO-ALLDAYEVENT:FALSE
SUMMARY:Open House at Blossom Wellness Centre
DESCRIPTION:Blossom Wellness Centre ("Blossom")\, an alternative and Oriental Medicine clinic in Chicago's western suburbs\, announces the grand opening of its office in the heart of Elmhurst's bustling City Centre business district. \n\n	To celebrate its grand opening and welcome the community\, Blossom will host an open house on Tuesday\, September 11\, 2012 from 4-7pm. Complementary raffles will be held every half hour for free or discounted services\, such as acupuncture and massage
X-ALT-DESC;FMTTYPE=text/html:<font face="Arial\, sans-serif">Blossom Wellness Centre (&ldquo\;Blossom&rdquo\;)\, an alternative and Oriental Medicine clinic in Chicago&rsquo\;s western suburbs\, announces the grand opening of its office in the heart of Elmhurst&rsquo\;s bustling City Centre business district. </font>\n<p style="margin-bottom: 0in">\n	<font face="Arial\, sans-serif">To celebrate its grand opening and welcome the community\, Blossom will host an open house on Tuesday\, September 11\, 2012 from 4-7pm. Complementary raffles will be held every half hour for free or discounted services\, such as acupuncture and massage</font></p>\n
LOCATION:Blossom Wellness Centre 120 N. York St. Suite 110\, Elmhurst IL 60126
UID:e.333.4929
SEQUENCE:3
DTSTAMP:20260424T175844Z
URL:https://chambermaster.elmhurstchamber.org/events/details/open-house-at-blossom-wellness-centre-09-11-2012-4929
END:VEVENT

END:VCALENDAR
