BEGIN:VCALENDAR
VERSION:2.0
PRODID:-//ChamberMaster//Event Calendar 2.0//EN
METHOD:PUBLISH
X-PUBLISHED-TTL:P3D
REFRESH-INTERVAL:P3D
CALSCALE:GREGORIAN
BEGIN:VEVENT
DTSTART:20110202T190000Z
DTEND:20110202T210000Z
X-MICROSOFT-CDO-ALLDAYEVENT:FALSE
SUMMARY:Open House at Elmhurst Pointe
DESCRIPTION:Please join us and enjoy a tour of our beautiful independent living senior community located in the heart of downtown Elmhurst.  Family and friends are welcome.  Light refreshments will be served.  Enter our raffle for a chance to win a $100.00 gift card.  RSVP to Debbie at 630-424-9222.
X-ALT-DESC;FMTTYPE=text/html:Please join us and enjoy a tour of our beautiful independent living senior community located in the heart of downtown Elmhurst.  Family and friends are welcome.  Light refreshments will be served.  Enter our raffle for a chance to win a $100.00 gift card.  RSVP to Debbie at 630-424-9222.
LOCATION:Elmhurst Pointe\, 111 West Third Street\, Elmhurst\, IL.
UID:e.333.3704
SEQUENCE:3
DTSTAMP:20260426T011016Z
URL:https://chambermaster.elmhurstchamber.org/events/details/open-house-at-elmhurst-pointe-02-02-2011-3704
END:VEVENT

END:VCALENDAR
