BEGIN:VCALENDAR
VERSION:2.0
PRODID:-//ChamberMaster//Event Calendar 2.0//EN
METHOD:PUBLISH
X-PUBLISHED-TTL:P3D
REFRESH-INTERVAL:P3D
CALSCALE:GREGORIAN
BEGIN:VEVENT
DTSTART:20110506T160000Z
DTEND:20110506T190000Z
X-MICROSOFT-CDO-ALLDAYEVENT:FALSE
SUMMARY:Open House at The Hub
DESCRIPTION:The Hub will be hosting a opne house at Berens Park\, sponsored by the Elmhurst Park District.  There will be free mini golf\, free batting cages\, free food\, adn raffle prizes!  Uncle Bub's Award Winning BBQ will cater the event.
X-ALT-DESC;FMTTYPE=text/html:The Hub will be hosting a opne house at Berens Park\, sponsored by the Elmhurst Park District.&nbsp\; There will be free mini golf\, free batting cages\, free food\, adn raffle prizes!&nbsp\; Uncle Bub&#39\;s Award Winning BBQ will cater the event.
LOCATION:Berens Park 493 Oaklawn Ave Elmhurst IL 60126
UID:e.333.4192
SEQUENCE:3
DTSTAMP:20260425T192038Z
URL:https://chambermaster.elmhurstchamber.org/events/details/open-house-at-the-hub-05-06-2011-4192
END:VEVENT

END:VCALENDAR
