BEGIN:VCALENDAR
VERSION:2.0
PRODID:-//ChamberMaster//Event Calendar 2.0//EN
METHOD:PUBLISH
X-PUBLISHED-TTL:P3D
REFRESH-INTERVAL:P3D
CALSCALE:GREGORIAN
BEGIN:VEVENT
DTSTART:20131026T140000Z
DTEND:20131026T160000Z
X-MICROSOFT-CDO-ALLDAYEVENT:FALSE
SUMMARY:Over 40 and Hired!
DESCRIPTION:Whether you are between jobs or desire a career "next chapter\," have hope and take charge.  For seasoned professionals navigating challenges of career change and potential age bias in today's job market\, CTC coach Anita Jenke will provide tips\, strategies and real life examples to give the competitive edge to those in career transition. Covering use of informational interviews\, positioning and outreach critical to all job seekers\, Anita will share insights that will help all in transition better position themselves for greater distinction and success! This event is open to the public and admission is $10 per person\, which includes a full breakfast.
X-ALT-DESC;FMTTYPE=text/html:Whether you are between jobs or desire a career&nbsp\;&quot\;next chapter\,&quot\; have hope and take charge.&nbsp\; For seasoned professionals navigating challenges of career change and potential&nbsp\;age bias in today&#39\;s job market\, CTC coach Anita Jenke will provide tips\, strategies&nbsp\;and real life examples to give the competitive edge to those in career transition.&nbsp\;Covering use of informational interviews\, positioning and outreach critical to all job seekers\, Anita will share insights that will help all in transition better position&nbsp\;themselves for greater distinction and success! This event is open to the public&nbsp\;and admission is $10 per person\, which includes a full breakfast.
LOCATION:Frick Center Elmhurst College
UID:e.333.5871
SEQUENCE:3
DTSTAMP:20260422T112903Z
URL:https://chambermaster.elmhurstchamber.org/events/details/over-40-and-hired-10-26-2013-5871
END:VEVENT

END:VCALENDAR
