BEGIN:VCALENDAR
VERSION:2.0
PRODID:-//ChamberMaster//Event Calendar 2.0//EN
METHOD:PUBLISH
X-PUBLISHED-TTL:P3D
REFRESH-INTERVAL:P3D
CALSCALE:GREGORIAN
BEGIN:VEVENT
DTSTART:20110914T160000Z
DTEND:20110914T183000Z
X-MICROSOFT-CDO-ALLDAYEVENT:FALSE
SUMMARY:P.U.R.S.E.S
DESCRIPTION:Women of all ages are beginning to realize the importance of being informed and becoming actively involved in securing their financial futures.  This informative and fun workshop is specially designed to address the financial issues faced by women.  \n\n	Topics will include:\n\n	*Common financial mistakes made by women\n\n	*Financial differences between women who are single\, divorced\, and widowed\n\n	*Making money last a lifetime and avoiding unnecessary taxes\n\n	*The four financial phases of life\n\n	*Dealing with long term care concerns\n\n	*Efficient ways of passing assets to heirs\n\n	*Recovering from an economic storm\n\n	*Latest social security forcast
X-ALT-DESC;FMTTYPE=text/html:<p>\n	<em>Women of all ages are beginning to realize the importance of being informed and becoming actively involved in securing their financial futures.&nbsp\; This informative and fun workshop is specially designed to address the financial issues faced by women.&nbsp\; </em><br />\n	<strong>Topics will include</strong>:<br />\n	*Common financial mistakes made by women<br />\n	*Financial differences between women who are single\, divorced\, and widowed<br />\n	*Making money last a lifetime and avoiding unnecessary taxes<br />\n	*The four financial phases of life<br />\n	*Dealing with long term care concerns<br />\n	*Efficient ways of passing assets to heirs<br />\n	*Recovering from an economic storm<br />\n	*Latest social security forcast</p>\n
LOCATION:The Flame\, 803 Joliet Rd\, Countryside\, IL 60525
UID:e.333.4412
SEQUENCE:3
DTSTAMP:20260425T132122Z
URL:https://chambermaster.elmhurstchamber.org/events/details/p-u-r-s-e-s-09-14-2011-4412
END:VEVENT

END:VCALENDAR
