BEGIN:VCALENDAR
VERSION:2.0
PRODID:-//ChamberMaster//Event Calendar 2.0//EN
METHOD:PUBLISH
X-PUBLISHED-TTL:P3D
REFRESH-INTERVAL:P3D
CALSCALE:GREGORIAN
BEGIN:VEVENT
DTSTART;VALUE=DATE:20130507
DTEND;VALUE=DATE:20130508
TRANSP:TRANSPARENT
X-MICROSOFT-CDO-ALLDAYEVENT:TRUE
SUMMARY:Papa John's Customer Appreciation Day
DESCRIPTION:To say thank you to our customers come in and get a large 1 topping pizza for only $5.99 or papa size it for $2 more.
X-ALT-DESC;FMTTYPE=text/html:To say thank you to our customers come in and get a large 1 topping pizza for only $5.99 or papa size it for $2 more.
LOCATION:275 N York Rd Elmhurst\, IL 60126
UID:e.333.5281
SEQUENCE:3
DTSTAMP:20260422T180558Z
URL:https://chambermaster.elmhurstchamber.org/events/details/papa-john-s-customer-appreciation-day-05-07-2013-5281
END:VEVENT

END:VCALENDAR
