BEGIN:VCALENDAR
VERSION:2.0
PRODID:-//ChamberMaster//Event Calendar 2.0//EN
METHOD:PUBLISH
X-PUBLISHED-TTL:P3D
REFRESH-INTERVAL:P3D
CALSCALE:GREGORIAN
BEGIN:VEVENT
DTSTART;VALUE=DATE:20110517
DTEND;VALUE=DATE:20110625
TRANSP:TRANSPARENT
X-MICROSOFT-CDO-ALLDAYEVENT:TRUE
SUMMARY:Pareidolia: Paintings by Adrienne Jaroscak
DESCRIPTION:Pareidolia\, featuring original abstract paintings by Elmhurst artist and long-time Elmhurst Artists' Guild ("EAG") member\, Adrienne Allen Jaroscak\, will be in the Elmhurst Artists' Guild Gallery at the Elmhurst Art Museum from May 17 through June 24\, 2011.  The public is invited to attend the reception on Friday\, June 3\, from 7 to 9 pm where they can meet this accomplished artist and learn more about her work. Regular hours: Tu\, W\, Th\, Sa 10-5\; F 10-8.
X-ALT-DESC;FMTTYPE=text/html:<p class="MsoNormal">\n	Pareidolia\, featuring original abstract paintings by Elmhurst artist and long-time Elmhurst Artists&rsquo\; Guild (&ldquo\;EAG&rdquo\;) member\, Adrienne Allen Jaroscak\, will be in the Elmhurst Artists&rsquo\; Guild Gallery at the Elmhurst Art Museum from May 17 through June 24\, 2011.<span style="">&nbsp\; </span>The public is invited to attend the reception on Friday\, June 3\, from 7 to 9 pm where they can meet this accomplished artist and learn more about her work. Regular hours: Tu\, W\, Th\, Sa 10-5\; F 10-8.</p>\n
LOCATION:150 Cottage Hill Avenue Elmhurst\, IL 60126
UID:e.333.4215
SEQUENCE:3
DTSTAMP:20260425T174656Z
URL:https://chambermaster.elmhurstchamber.org/events/details/pareidolia-paintings-by-adrienne-jaroscak-05-17-2011-4215
END:VEVENT

END:VCALENDAR
