BEGIN:VCALENDAR
VERSION:2.0
PRODID:-//ChamberMaster//Event Calendar 2.0//EN
METHOD:PUBLISH
X-PUBLISHED-TTL:P3D
REFRESH-INTERVAL:P3D
CALSCALE:GREGORIAN
BEGIN:VEVENT
DTSTART:20121211T003000Z
DTEND:20121211T013000Z
X-MICROSOFT-CDO-ALLDAYEVENT:FALSE
SUMMARY:Parent and Me Happy Feet Penguin Fun
DESCRIPTION:Calling all Moms\, Dads and penguin lovers! Ultimate Classes and Parties has found the most adorable penguins for you and your child to create. Each participant will stuff their own penguin\, add a star to make a wish\, decorate a holiday t-shirt\, and create a rhinestone collar. Birth certificates are also provided! \n\n	 \n\n	Fee: $33R/$41NR\; $20R/$25NR add'l child\n\n	Time: 6:30   7:30 p.m.\n\n	Location: Wagner Community Center Multipurpose Room D\n\n	Ages 3-12 (parent/child)
X-ALT-DESC;FMTTYPE=text/html:<p class="MsoNormal" style="margin: 0in 0in 0pt">\n	<span style="line-height: 115%\; font-family: 'cambria'\, 'serif'\; font-size: 12pt\; mso-ascii-theme-font: major-latin\; mso-hansi-theme-font: major-latin"><font color="#000000">Calling all Moms\, Dads and penguin lovers! Ultimate Classes and Parties has found the most adorable penguins for you and your child to create. Each participant will stuff their own penguin\, add a star to make a wish\, decorate a holiday t-shirt\, and create a rhinestone collar. Birth certificates are also provided! <o:p></o:p></font></span></p>\n<p class="MsoNormal" style="margin: 0in 0in 0pt">\n	<span style="line-height: 115%\; font-family: 'cambria'\, 'serif'\; font-size: 12pt\; mso-ascii-theme-font: major-latin\; mso-hansi-theme-font: major-latin"><o:p><font color="#000000">&nbsp\;</font></o:p></span></p>\n<p class="MsoNormal" style="margin: 0in 0in 0pt">\n	<span style="line-height: 115%\; font-family: 'cambria'\, 'serif'\; font-size: 12pt\; mso-ascii-theme-font: major-latin\; mso-hansi-theme-font: major-latin"><font color="#000000">Fee: $33R/$41NR\; $20R/$25NR add&rsquo\;l child<o:p></o:p></font></span></p>\n<p class="MsoNormal" style="margin: 0in 0in 0pt">\n	<span style="line-height: 115%\; font-family: 'cambria'\, 'serif'\; font-size: 12pt\; mso-ascii-theme-font: major-latin\; mso-hansi-theme-font: major-latin"><font color="#000000">Time: 6:30 &ndash\; 7:30 p.m.<o:p></o:p></font></span></p>\n<p class="MsoNormal" style="margin: 0in 0in 0pt">\n	<span style="line-height: 115%\; font-family: 'cambria'\, 'serif'\; font-size: 12pt\; mso-ascii-theme-font: major-latin\; mso-hansi-theme-font: major-latin"><font color="#000000">Location: Wagner Community Center Multipurpose Room D<br />\n	Ages 3-12 (parent/child) </font></span></p>\n
LOCATION:Wagner Community Center
UID:e.333.4911
SEQUENCE:3
DTSTAMP:20260424T132251Z
URL:https://chambermaster.elmhurstchamber.org/events/details/parent-and-me-happy-feet-penguin-fun-12-10-2012-4911
END:VEVENT

END:VCALENDAR
