BEGIN:VCALENDAR
VERSION:2.0
PRODID:-//ChamberMaster//Event Calendar 2.0//EN
METHOD:PUBLISH
X-PUBLISHED-TTL:P3D
REFRESH-INTERVAL:P3D
CALSCALE:GREGORIAN
BEGIN:VEVENT
DTSTART:20130926T230000Z
DTEND:20130927T010000Z
X-MICROSOFT-CDO-ALLDAYEVENT:FALSE
SUMMARY:Park Place of Elmhurst Informative Presentation: Estate Planning
DESCRIPTION:If you are of retirement age\, you've probably already run into some legal issues that are unique to this time of life.  Estate planning\, trusts\, wills\, Medicare\, Social Security\, disability planning\, Advance Directives -- paying attention to these ahead of time can help you secure your future and minimize stress for your family.  Elder Law Attorney Ronald Webb will share some of the insights he's gained in years of specializing in legal issues affecting seniors.\n\n\n\nThere is no cost to attend\, bus space is limited\, so please RSVP  ASAP.\n\n\n\nSee the event flyer for more information:  http://cloud.chambermaster.com/userfiles/UserFiles/chambers/333/File/ParkPlace.pdf
X-ALT-DESC;FMTTYPE=text/html:If you are of retirement age\, you&#39\;ve probably already run into some legal issues that are unique to this time of life. &nbsp\;Estate planning\, trusts\, wills\, Medicare\, Social Security\, disability planning\, Advance Directives -- paying attention to these ahead of time can help you secure your future and minimize stress for your family. &nbsp\;Elder Law Attorney Ronald Webb will share some of the insights he&#39\;s gained in years of specializing in legal issues affecting seniors.<br />\n<br />\nThere is no cost to attend\, bus space is limited\, so please RSVP &nbsp\;ASAP.<br />\n<br />\nSee the event flyer for more information: &nbsp\;<a href="http://cloud.chambermaster.com/userfiles/UserFiles/chambers/333/File/ParkPlace.pdf">http://cloud.chambermaster.com/userfiles/UserFiles/chambers/333/File/ParkPlace.pdf</a><br />\n<br />\n
LOCATION:Park Place Health & Wellness Center 1150 S. Euclid Ave. Elmhurst\, IL 60126
UID:e.333.5853
SEQUENCE:3
DTSTAMP:20260422T113401Z
URL:https://chambermaster.elmhurstchamber.org/events/details/park-place-of-elmhurst-informative-presentation-estate-planning-09-26-2013-5853
END:VEVENT

END:VCALENDAR
