BEGIN:VCALENDAR
VERSION:2.0
PRODID:-//ChamberMaster//Event Calendar 2.0//EN
METHOD:PUBLISH
X-PUBLISHED-TTL:P3D
REFRESH-INTERVAL:P3D
CALSCALE:GREGORIAN
BEGIN:VEVENT
DTSTART:20130924T230000Z
DTEND:20130925T010000Z
X-MICROSOFT-CDO-ALLDAYEVENT:FALSE
SUMMARY:Park Place of Elmhurst Informative Presentation: Life With Hip & Knee Pain
DESCRIPTION:Do your joints hurt? Do you have swelling\, stiffness\, or arthritis?  Ever wonder if joint replacement is right for you?  Find out from Dr. Kris J. Alden\, MD\, PhD.  Dr. Alden is a fellowship-trained\, board-certified orthopaedic surgeon from Hinsdale Orthopaedics\, back by popular demand to present the treatment options available for hip and knee pain.\n\n\n\nFor more information:   http://cloud.chambermaster.com/userfiles/UserFiles/chambers/333/File/ParkPlace.pdf\n\n\n\nThere is no cost to attend\, but space is limited\, so please RSVP ASAP.\n\n(630) 936-4100
X-ALT-DESC;FMTTYPE=text/html:Do your joints hurt? Do you have swelling\, stiffness\, or arthritis? &nbsp\;Ever wonder if joint replacement is right for you? &nbsp\;Find out from Dr. Kris J. Alden\, MD\, PhD. &nbsp\;Dr. Alden is a fellowship-trained\, board-certified orthopaedic surgeon from Hinsdale Orthopaedics\, back by popular demand to present the treatment options available for hip and knee pain.<br />\n<br />\nFor more information: &nbsp\;&nbsp\;<a href="http://cloud.chambermaster.com/userfiles/UserFiles/chambers/333/File/ParkPlace.pdf">http://cloud.chambermaster.com/userfiles/UserFiles/chambers/333/File/ParkPlace.pdf</a><br />\n<br />\nThere is no cost to attend\, but space is limited\, so please RSVP ASAP.<br />\n(630) 936-4100
LOCATION:Park Place Health & Wellness Center 1150 S. Euclid Ave. Elmhurst\, IL 60126
UID:e.333.5852
SEQUENCE:3
DTSTAMP:20260422T113639Z
URL:https://chambermaster.elmhurstchamber.org/events/details/park-place-of-elmhurst-informative-presentation-life-with-hip-knee-pain-09-24-2013-5852
END:VEVENT

END:VCALENDAR
