BEGIN:VCALENDAR
VERSION:2.0
PRODID:-//ChamberMaster//Event Calendar 2.0//EN
METHOD:PUBLISH
X-PUBLISHED-TTL:P3D
REFRESH-INTERVAL:P3D
CALSCALE:GREGORIAN
BEGIN:VEVENT
DTSTART;VALUE=DATE:20120608
DTEND;VALUE=DATE:20120818
TRANSP:TRANSPARENT
X-MICROSOFT-CDO-ALLDAYEVENT:TRUE
SUMMARY:Parties Are More Fun At the Movies
DESCRIPTION:FOR IMMEDIATE RELEASE\n\n        \n\nPARTIES ARE MORE FUN\n\nAT THE MOVIES!\n\nThree Party Rooms Available At York Theatre\n\n\n\nElmhurst\, IL   The York Theatre\, located at 150 N. York St. in Elmhurst\, IL\, is a perfect venue to throw a party\, no matter what your age. Having a party at the York Theatre is easy\, convenient\, and cost-effective. Whether it's a birthday party for your children\, friends and family\, or a special event for employees or clients\, a party at the York Theatre is the perfect celebration.\n\n\n\nYork Theatre offers three party rooms. The price for a party starts at $11.00 per person plus a non-refundable room fee of $40\, which guarantees access to the room for up to one hour. The Birthday Party Package includes movie admission\, a Kiddie Concession Combo with a drink\, popcorn and candy\, help from Classic Cinemas staff\, and reserved seating in the auditorium (if time permits). There are free refills on popcorn and soft drinks as always.\n\n\n\nAs part of the Classic Cinemas party experience\, the guest of honor is welcome to visit the projection booth where he/she gets to start the movie. Who wouldn't love to press the magic movie button and start their favorite movie?\n\n\n\nParty rooms are also available for other special occasions such as small meetings\, book clubs\, troop meetings\, etc. To book a party or special event\, please call 630-834-0681. The party rooms are very popular\, and early reservations are highly recommended.\n\nYORK THEATRE PARTY ROOM/Add One\n\n\n\nCheck out the fun\, family-friendly movies coming this summer to Classic Cinemas! All films will be shown on York Theatre's brand new 4k Digital Projection and Sound Technology. Movies and dates are subject to change\n\n\n\nJune 8:        Madagascar 3: Europe's Most Wanted\n\nAlex\, Marty\, Gloria\, and Melman are still fighting to get home to their bellowed Big Apple. Their journey takes them through Europe where they find the perfect cover: a traveling circus\, which they reinvent   Madagascar style.\n\n\n\nJune 22:      Disney/Pixar's "Brave"\n\nDetermined to make her own path in life\, Princess Merida defies a custom that brings chaos to her kingdom. Granted one wish\, Merida must rely on her bravery and her archery skills to undo a beastly curse.\n\n\n\nJuly 3:         The Amazing Spiderman\n\nPeter Parker finds a clue that might help him understand why his parents disappeared when he was young. His path puts him on a collision course with Dr. Curt Connors\, his father's former partner.\n\n\n\nJuly 13:       Ice Age:  Continental Drift\n\nManny\, Diego and Sid embark upon another adventure after their continent is set adrift. Using an iceberg as a ship\, they encounter sea creatures and battle pirates as they explore a new world.\n\n\n\nAugust 3:    Diary of a Wimpy Kid: Dog Days\n\nSchool is out and Greg is ready for the days of summer\, when all his plans go wrong. What on earth is he going to do all summer?\n\n\n\nAugust 17:  Paranorman\n\nA misunderstood boy\, who can speak with the dead\, takes on ghosts\, zombies and grown-ups to save his town from a centuries-old curse.\n\n\n\nClassic Cinemas\, based in Downers Grove\, Illinois\, is a family-owned company operated by Willis\, Shirley and Chris Johnson. Established in 1978\, Classic Cinemas operates 13 theatres with 100 screens in the northern Illinois area. Each auditorium is equipped with state-of-the-art digital projection and sound technology. For more information on Classic Cinemas\, please visit www.classiccinemas.com.\n\n\n\n#   #   #
X-ALT-DESC;FMTTYPE=text/html:FOR IMMEDIATE RELEASE<br />\n&nbsp\;&nbsp\;&nbsp\;&nbsp\;&nbsp\;&nbsp\; &nbsp\;<br />\nPARTIES ARE MORE FUN<br />\nAT THE MOVIES!<br />\nThree Party Rooms Available At York Theatre<br />\n<br />\nElmhurst\, IL &ndash\; The York Theatre\, located at 150 N. York St. in Elmhurst\, IL\, is a perfect venue to throw a party\, no matter what your age. Having a party at the York Theatre is easy\, convenient\, and cost-effective. Whether it&#39\;s a birthday party for your children\, friends and family\, or a special event for employees or clients\, a party at the York Theatre is the perfect celebration.<br />\n<br />\nYork Theatre offers three party rooms. The price for a party starts at $11.00 per person plus a non-refundable room fee of $40\, which guarantees access to the room for up to one hour. The Birthday Party Package includes movie admission\, a Kiddie Concession Combo with a drink\, popcorn and candy\, help from Classic Cinemas staff\, and reserved seating in the auditorium (if time permits). There are free refills on popcorn and soft drinks as always.<br />\n<br />\nAs part of the Classic Cinemas party experience\, the guest of honor is welcome to visit the projection booth where he/she gets to start the movie. Who wouldn&rsquo\;t love to press the magic movie button and start their favorite movie?<br />\n<br />\nParty rooms are also available for other special occasions such as small meetings\, book clubs\, troop meetings\, etc. To book a party or special event\, please call 630-834-0681. The party rooms&nbsp\;are very popular\, and early reservations are highly recommended.<br />\nYORK THEATRE PARTY ROOM/Add One<br />\n<br />\nCheck out the fun\, family-friendly movies coming this summer to Classic Cinemas! All films will be shown on York Theatre&rsquo\;s brand new 4k Digital Projection and Sound Technology. Movies and dates are subject to change<br />\n<br />\nJune 8:&nbsp\;&nbsp\;&nbsp\;&nbsp\;&nbsp\;&nbsp\;&nbsp\; Madagascar 3: Europe&#39\;s Most Wanted<br />\nAlex\, Marty\, Gloria\, and Melman are still fighting to get home to their bellowed Big Apple. Their journey takes them through Europe where they find the perfect cover: a traveling circus\, which they reinvent &ndash\; Madagascar style.<br />\n<br />\nJune 22:&nbsp\;&nbsp\;&nbsp\;&nbsp\;&nbsp\; Disney/Pixar&rsquo\;s &ldquo\;Brave&rdquo\;<br />\nDetermined to make her own path in life\, Princess Merida defies a custom that brings chaos to her kingdom. Granted one wish\, Merida must rely on her bravery and her archery skills to undo a beastly curse.<br />\n<br />\nJuly 3:&nbsp\;&nbsp\;&nbsp\;&nbsp\;&nbsp\;&nbsp\;&nbsp\;&nbsp\; The Amazing Spiderman<br />\nPeter Parker finds a clue that might help him understand why his parents disappeared when he was young. His path puts him on a collision course with Dr. Curt Connors\, his father&rsquo\;s former partner.<br />\n<br />\nJuly 13:&nbsp\;&nbsp\;&nbsp\;&nbsp\;&nbsp\;&nbsp\; Ice Age:&nbsp\; Continental Drift<br />\nManny\, Diego and Sid embark upon another adventure after their continent is set adrift. Using an iceberg as a ship\, they encounter sea creatures and battle pirates as they explore a new world.<br />\n<br />\nAugust 3:&nbsp\;&nbsp\;&nbsp\; Diary of a Wimpy Kid: Dog Days<br />\nSchool is out and Greg is ready for the days of summer\, when all his plans go wrong. What on earth is he going to do all summer?<br />\n<br />\nAugust 17:&nbsp\; Paranorman<br />\nA misunderstood boy\, who can speak with the dead\, takes on ghosts\, zombies and grown-ups to save his town from a centuries-old curse.<br />\n<br />\nClassic Cinemas\, based in Downers Grove\, Illinois\, is a family-owned company operated by Willis\, Shirley and Chris Johnson. Established in 1978\, Classic Cinemas operates 13 theatres with 100 screens in the northern Illinois area. Each auditorium is equipped with state-of-the-art digital projection and sound technology. For more information on Classic Cinemas\, please visit www.classiccinemas.com.<br />\n<br />\n#&nbsp\;&nbsp\; #&nbsp\;&nbsp\; #
LOCATION:150 N. York St. in Elmhurst\, IL
UID:e.333.4871
SEQUENCE:3
DTSTAMP:20260424T194215Z
URL:https://chambermaster.elmhurstchamber.org/events/details/parties-are-more-fun-at-the-movies-06-08-2012-4871
END:VEVENT

END:VCALENDAR
