BEGIN:VCALENDAR
VERSION:2.0
PRODID:-//ChamberMaster//Event Calendar 2.0//EN
METHOD:PUBLISH
X-PUBLISHED-TTL:P3D
REFRESH-INTERVAL:P3D
CALSCALE:GREGORIAN
BEGIN:VEVENT
DTSTART:20120915T160000Z
DTEND:20120915T200000Z
X-MICROSOFT-CDO-ALLDAYEVENT:FALSE
SUMMARY:Party in the Park
DESCRIPTION:Mark your calendar and plan to join us for a fun\, family-friendly Party in the Park at Butterfield Park in Elmhurst!  Inflatables for the kids\, carnival-style games and food for all!  It's one of the ways Journey Church wants to let our community know we are here and we care!  We look forward to meeting you!
X-ALT-DESC;FMTTYPE=text/html:Mark your calendar and plan to join us for a fun\, family-friendly Party in the Park at Butterfield Park in Elmhurst!&nbsp\;&nbsp\;Inflatables for the kids\, carnival-style games and food for all! &nbsp\;It&#39\;s one of the ways Journey Church wants to let our community know we are here and we care! &nbsp\;We look forward to meeting you!
LOCATION:Butterfield Park: 385 E. Van Buren St. Elmhurst\, IL 60126
UID:e.333.4926
SEQUENCE:3
DTSTAMP:20260424T175808Z
URL:https://chambermaster.elmhurstchamber.org/events/details/party-in-the-park-09-15-2012-4926
END:VEVENT

END:VCALENDAR
