BEGIN:VCALENDAR
VERSION:2.0
PRODID:-//ChamberMaster//Event Calendar 2.0//EN
METHOD:PUBLISH
X-PUBLISHED-TTL:P3D
REFRESH-INTERVAL:P3D
CALSCALE:GREGORIAN
BEGIN:VEVENT
DTSTART:20111008T210000Z
DTEND:20111009T000000Z
X-MICROSOFT-CDO-ALLDAYEVENT:FALSE
SUMMARY:Patriot Boxing and Fitness presents: Oktoberfest
DESCRIPTION:Come join us as we celebrate the additon of TRX into our regular schedule and support our local Charity Kick-Off for Kids.\n\n\n\nComplimentary Boxing\, TRX\, and Kids Course starts at 4.\n\n\n\nLive Blues music with Killer Ray Allison starts at 5. There will be drinks\, raffles\, silent auction\, food\, games\, and more!\n\n\n\nFun for the whole family so grab a friend or two and head on over to Patriot.\n\n\n\nRSVP are recommended\, but not required.\n\n\n\nA portion of all proceeds will go to Kick-Off for Kids.
X-ALT-DESC;FMTTYPE=text/html:Come join us as we celebrate the additon of TRX into our regular schedule and support our local Charity Kick-Off for Kids.<br />\n<br />\nComplimentary Boxing\, TRX\, and Kids Course starts at 4.<br />\n<br />\nLive Blues music with Killer Ray Allison starts at 5. There will be drinks\, raffles\, silent auction\, food\, games\, and more!<br />\n<br />\nFun for the whole family so grab a friend or two and head on over to Patriot.<br />\n<br />\nRSVP are recommended\, but not required.<br />\n<br />\nA portion of all proceeds will go to Kick-Off for Kids.
LOCATION:Patriot Boxing and Fitness 645 S. Rt. 83\, Elmhurst IL 60126
UID:e.333.4500
SEQUENCE:3
DTSTAMP:20260425T120640Z
URL:https://chambermaster.elmhurstchamber.org/events/details/patriot-boxing-and-fitness-presents-oktoberfest-10-08-2011-4500
END:VEVENT

END:VCALENDAR
