BEGIN:VCALENDAR
VERSION:2.0
PRODID:-//ChamberMaster//Event Calendar 2.0//EN
METHOD:PUBLISH
X-PUBLISHED-TTL:P3D
REFRESH-INTERVAL:P3D
CALSCALE:GREGORIAN
BEGIN:VEVENT
DTSTART:20110808T230000Z
DTEND:20110809T010000Z
X-MICROSOFT-CDO-ALLDAYEVENT:FALSE
SUMMARY:Patriot Boxing and Fitness presents: Open House
DESCRIPTION:Attention Chamber....\n\n\n\nPatriot Boxing and Fitness (645 S. Rt. 83\, Elmhurst) is hosting an Open House\n\n\n\nMonday August 8\n\n6-8 pm\n\n\n\nComplimentary classes if you are not yet a Member\n\n\n\nWe will have a DJ spinning live during our 5 30 and 6 45 Kickboxing and Boxing class\n\n\n\nWe will have Vendors\, complimentary services\, and giveaways!\n\n\n\nIf you are looking for a change from the ordinary work-out get in here\n\n\n\nProfessional Trainers and burn up to 1000 calories a workout\n\n\n\nVisit our site at www.patriotboxing.com or call Tracey 630-279-7206 for details\n\n\n\nIf you
X-ALT-DESC;FMTTYPE=text/html:Attention Chamber....<br />\n<br />\nPatriot Boxing and Fitness (645 S. Rt. 83\, Elmhurst) is hosting an Open House<br />\n<br />\nMonday August 8<br />\n6-8 pm<br />\n<br />\nComplimentary classes if you are not yet a Member<br />\n<br />\nWe will have a DJ spinning live during our 5 30 and 6 45 Kickboxing and Boxing class<br />\n<br />\nWe will have Vendors\, complimentary services\, and giveaways!<br />\n<br />\nIf you are looking for a change from the ordinary work-out get in here<br />\n<br />\nProfessional Trainers and burn up to 1000 calories a workout<br />\n<br />\nVisit our site at www.patriotboxing.com or call Tracey 630-279-7206 for details<br />\n<br />\nIf you
LOCATION:645 S. Rt. 83 Elmhurst Il 60126 (located directly behind the Honda)
UID:e.333.4264
SEQUENCE:3
DTSTAMP:20260425T151741Z
URL:https://chambermaster.elmhurstchamber.org/events/details/patriot-boxing-and-fitness-presents-open-house-08-08-2011-4264
END:VEVENT

END:VCALENDAR
