BEGIN:VCALENDAR
VERSION:2.0
PRODID:-//ChamberMaster//Event Calendar 2.0//EN
METHOD:PUBLISH
X-PUBLISHED-TTL:P3D
REFRESH-INTERVAL:P3D
CALSCALE:GREGORIAN
BEGIN:VEVENT
DTSTART:20110918T160000Z
DTEND:20110918T200000Z
X-MICROSOFT-CDO-ALLDAYEVENT:FALSE
SUMMARY:Paws Pet Grooming Grand Opening!
DESCRIPTION:Paws Pet Grooming Grand Opening! \n\nThere will be refreshments for the fur-kids and their humans\, door prizes\, doggie treat samples\, $5.00 nail trims for all pets\, free cat/dog toys\, raffles sponsored by the area rescues\, and much more!   We will have a salon tour for anyone interested.  Please join us and meet our wonderful groomers.
X-ALT-DESC;FMTTYPE=text/html:<em><u><strong>Paws Pet Grooming Grand Opening</strong></u>!&nbsp\;</em><br />\nThere will be refreshments for the fur-kids and their humans\,&nbsp\;door prizes\, doggie treat samples\, $5.00 nail trims for <u>all</u> pets\, free cat/dog toys\, raffles sponsored by the area rescues\, and much more!&nbsp\;&nbsp\; We will have&nbsp\;a salon tour for anyone interested.&nbsp\; Please join us and meet our wonderful groomers. 
LOCATION:299 N York Rd. Elmhurst\, IL 60126
UID:e.333.4407
SEQUENCE:3
DTSTAMP:20260425T145215Z
URL:https://chambermaster.elmhurstchamber.org/events/details/paws-pet-grooming-grand-opening-09-18-2011-4407
END:VEVENT

END:VCALENDAR
