BEGIN:VCALENDAR
VERSION:2.0
PRODID:-//ChamberMaster//Event Calendar 2.0//EN
METHOD:PUBLISH
X-PUBLISHED-TTL:P3D
REFRESH-INTERVAL:P3D
CALSCALE:GREGORIAN
BEGIN:VEVENT
DTSTART:20121106T150000Z
DTEND:20121106T190000Z
X-MICROSOFT-CDO-ALLDAYEVENT:FALSE
SUMMARY:Personal Fiscal Fitness:How to Construct a Good Financial Plan
DESCRIPTION:This Course will provide insights into questions you may have in how to choose the best path for your company. Financial planning much be practiced throughout your career. Instructor\, Maureen Piet\, will focus on wealth management\, insurance options\, retirement funding and determining realistic financial goals.
X-ALT-DESC;FMTTYPE=text/html:This Course will provide insights into questions you may have in how to choose the best path for your company. Financial planning much be practiced throughout your career. Instructor\, Maureen Piet\, will focus on wealth management\, insurance options\, retirement funding and determining realistic financial goals.&nbsp\;
LOCATION:Republic Bank 4433 W. Touhy Ave. Lincolnwood\, IL 60172
UID:e.333.5096
SEQUENCE:3
DTSTAMP:20260424T145758Z
URL:https://chambermaster.elmhurstchamber.org/events/details/personal-fiscal-fitness-how-to-construct-a-good-financial-plan-11-06-2012-5096
END:VEVENT

END:VCALENDAR
