BEGIN:VCALENDAR
VERSION:2.0
PRODID:-//ChamberMaster//Event Calendar 2.0//EN
METHOD:PUBLISH
X-PUBLISHED-TTL:P3D
REFRESH-INTERVAL:P3D
CALSCALE:GREGORIAN
BEGIN:VEVENT
DTSTART:20121108T150000Z
DTEND:20121108T190000Z
X-MICROSOFT-CDO-ALLDAYEVENT:FALSE
SUMMARY:Personal Fiscal Fitness:How to Construct a Good Financial Plan
DESCRIPTION:This course will provide insights into any questions you may have on how to choose the best path for your company. Financial planning much be practiced throughout your career. Instructor\, Maureen Piet\, will focus on wealth management\, insurance options\, retirement funding and determining realistic financial goals.
X-ALT-DESC;FMTTYPE=text/html:This course will provide insights into any questions you may have on how to choose the best path for your company. Financial planning much be practiced throughout your career. Instructor\, Maureen Piet\, will focus on wealth management\, insurance options\, retirement funding and determining realistic financial goals.&nbsp\;
LOCATION:Republic Bank 9440 Joliet Rd. Hodgkins\, IL 60525
UID:e.333.5097
SEQUENCE:3
DTSTAMP:20260424T145758Z
URL:https://chambermaster.elmhurstchamber.org/events/details/personal-fiscal-fitness-how-to-construct-a-good-financial-plan-11-08-2012-5097
END:VEVENT

END:VCALENDAR
