BEGIN:VCALENDAR
VERSION:2.0
PRODID:-//ChamberMaster//Event Calendar 2.0//EN
METHOD:PUBLISH
X-PUBLISHED-TTL:P3D
REFRESH-INTERVAL:P3D
CALSCALE:GREGORIAN
BEGIN:VEVENT
DTSTART:20131116T160000Z
DTEND:20131116T230000Z
X-MICROSOFT-CDO-ALLDAYEVENT:FALSE
SUMMARY:Phillip's Flowers Holiday Open House
DESCRIPTION:The Phillip family is celebrating 90 years of assisting our customers with their various floral needs. Please join us at our Elmhurst location for our Holiday Open House on Sat. November 16\, from 10:00 a.m. to 5:00 p.m. and save 20% on all holiday gift ware\, tree trim\, ornaments\, permanent wreath\, trees and garland. We have skilled designers to help you put together the perfect look for your holiday.
X-ALT-DESC;FMTTYPE=text/html:The Phillip family is celebrating 90 years of assisting our customers with their various floral needs. Please join us at our Elmhurst location for our Holiday Open House on Sat. November 16\, from 10:00 a.m. to 5:00 p.m.&nbsp\;and save 20% on all holiday gift ware\, tree trim\, ornaments\, permanent wreath\, trees and garland. We have skilled designers to help you put together the perfect look for your holiday.
LOCATION:Phillip's Flowers and Gifts 526 Spring road\, Elmhurst IL
UID:e.333.7581
SEQUENCE:3
DTSTAMP:20260424T085133Z
URL:https://chambermaster.elmhurstchamber.org/events/details/phillip-s-flowers-holiday-open-house-11-16-2013-7581
END:VEVENT

END:VCALENDAR
