BEGIN:VCALENDAR
VERSION:2.0
PRODID:-//ChamberMaster//Event Calendar 2.0//EN
METHOD:PUBLISH
X-PUBLISHED-TTL:P3D
REFRESH-INTERVAL:P3D
CALSCALE:GREGORIAN
BEGIN:VEVENT
DTSTART:20130122T233000Z
DTEND:20130312T230000Z
X-MICROSOFT-CDO-ALLDAYEVENT:FALSE
SUMMARY:Plus Size Yoga
DESCRIPTION:8 week class. Starts January 22\, from 5:30 to 6:30 pm Tuesdays.\n\n\n\nHere's the scoop:\n\n	\n		The price is $112 for all 8 classes.\n	\n		We have yoga mats and props for you to use!\n	\n		This class is for all levels...even if you've never practiced yoga before!\n	\n		pre-registration is required...click HERE to be directed to our scheduling site (click the tab that says "workshops & specialty classes")\n\n\n\nYoga emphasizes function over form\, and its practice can be modified for everyone regardless of shape or size.\n\n	 \n\n	We are not limited by our curves people of all shapes\, sizes and levels can reap the benefits\, including you! This class uses the holistic and healing discipline of yoga and will offers a broad range of tools for supporting health\, healing and personal transformation. We will meet you where you are and focus on your individual journey to health and happiness. We will guide you through each practice with thoughtful instruction and support to reach your goals safely\, at your own pace. You will develop strength\, balance\, flexibility and and mind/body connections in a fun\, comfortable environment.
X-ALT-DESC;FMTTYPE=text/html:<span style="color: rgb(94\, 94\, 94)\; line-height: 20px\; font-family: calibri\, helvetica\, verdana\, arial\, sans-serif\; font-size: 16px\;">8 week class. Starts January 22\, from 5:30 to 6:30 pm Tuesdays.<br />\n<br />\nHere&#39\;s the scoop:</span>\n<ul style="margin: 0px\; padding: 0px 0px 0px 30px\; color: rgb(94\, 94\, 94)\; line-height: 20px\; font-family: calibri\, helvetica\, verdana\, arial\, sans-serif\; font-size: 16px\;">\n	<li style="margin: 0px\; padding: 0px\;">\n		The price is $112 for all 8 classes.</li>\n	<li style="margin: 0px\; padding: 0px\;">\n		We have yoga mats and props for you to use!</li>\n	<li style="margin: 0px\; padding: 0px\;">\n		This class is for all levels...even if you&#39\;ve never practiced yoga before!</li>\n	<li style="margin: 0px\; padding: 0px\;">\n		pre-registration is required...click&nbsp\;<a data-id="l-0632068242" href="https://clients.mindbodyonline.com/ASP/home.asp?studioid=28788" style="color: rgb(28\, 110\, 152)\; cursor: pointer\;">HERE</a>&nbsp\;to be directed to our scheduling site (click the tab that says &quot\;workshops &amp\; specialty classes&quot\;)</li>\n</ul>\n<br />\n<span style="color: rgb(94\, 94\, 94)\; line-height: 20px\; font-family: calibri\, helvetica\, verdana\, arial\, sans-serif\; font-size: 16px\;">Yoga emphasizes function over form\, and its practice can be modified for everyone regardless of shape or size.</span>\n<p style="margin: 0px\; padding: 0px\; color: rgb(94\, 94\, 94)\; line-height: 20px\; font-family: calibri\, helvetica\, verdana\, arial\, sans-serif\; font-size: 16px\;">\n	&nbsp\;</p>\n<p style="margin: 0px\; padding: 0px\; color: rgb(94\, 94\, 94)\; line-height: 20px\; font-family: calibri\, helvetica\, verdana\, arial\, sans-serif\; font-size: 16px\;">\n	We are not limited by our curves&mdash\;people of all shapes\, sizes and levels can reap the benefits\, including you! This class uses the holistic and healing discipline of yoga and will offers a broad range of tools for supporting health\, healing and personal transformation. We will meet you where you are and focus on your individual journey to health and happiness. We will guide you through each practice with thoughtful instruction and support to reach your goals safely\, at your own pace. You will develop strength\, balance\, flexibility and and mind/body connections in a fun\, comfortable environment.&nbsp\;</p>\n
LOCATION:Blissed Out llc - Yoga & Thai Bodywork 381 N. York St. #24 Elmhurst\, IL 60126
UID:e.333.5159
SEQUENCE:3
DTSTAMP:20260424T084528Z
URL:https://chambermaster.elmhurstchamber.org/events/details/plus-size-yoga-01-22-2013-5159
END:VEVENT

END:VCALENDAR
