BEGIN:VCALENDAR
VERSION:2.0
PRODID:-//ChamberMaster//Event Calendar 2.0//EN
METHOD:PUBLISH
X-PUBLISHED-TTL:P3D
REFRESH-INTERVAL:P3D
CALSCALE:GREGORIAN
BEGIN:VEVENT
DTSTART:20121202T170000Z
DTEND:20121202T231500Z
X-MICROSOFT-CDO-ALLDAYEVENT:FALSE
SUMMARY:Polar Express
DESCRIPTION:All aboard! Don't miss the holiday magic as we journey to the North Pole (Elburn) on the Metra train. There will be cookies and refreshments to enjoy while a storyteller reads "The Polar Express." Santa will be waiting upon our arrival. Please meet on the south side of the tracks.
X-ALT-DESC;FMTTYPE=text/html:<p class="MsoNormal" style="margin: 0in 0in 0pt">\n	<span style="line-height: 115%\; font-family: 'cambria'\, 'serif'\; font-size: 12pt\; mso-ascii-theme-font: major-latin\; mso-hansi-theme-font: major-latin"><font color="#000000">All aboard! Don&rsquo\;t miss the holiday magic as we journey to the North Pole (Elburn) on the Metra train. There will be cookies and refreshments to enjoy while a storyteller reads &ldquo\;The Polar Express.&rdquo\; Santa will be waiting upon our arrival. Please meet on the south side of the tracks. <o:p></o:p></font></span></p>\n
LOCATION:Elmhurst Train Station
UID:e.333.4907
SEQUENCE:3
DTSTAMP:20260424T131803Z
URL:https://chambermaster.elmhurstchamber.org/events/details/polar-express-12-02-2012-4907
END:VEVENT

END:VCALENDAR
