BEGIN:VCALENDAR
VERSION:2.0
PRODID:-//ChamberMaster//Event Calendar 2.0//EN
METHOD:PUBLISH
X-PUBLISHED-TTL:P3D
REFRESH-INTERVAL:P3D
CALSCALE:GREGORIAN
BEGIN:VEVENT
DTSTART:20130404T004500Z
DTEND:20130509T013000Z
X-MICROSOFT-CDO-ALLDAYEVENT:FALSE
SUMMARY:Pre/Postnatal Fitness
DESCRIPTION:Ages 16 and older\n\n	The goal of this prenatal/postnatal exercise class is to make moms fit before\, during and after baby!  Benefits include improved level of physical conditioning creating strength\, flexibility and stamina during the pregnancy term\, labor and delivery and the postnatal recovery period.  Classes will include yoga\, low impact\, sculpting and ball exercise.
X-ALT-DESC;FMTTYPE=text/html:<p class="MsoNormal" style="margin: 0in 0in 0pt 0.1in\;">\n	<span style="font-size: 10pt\;"><font color="#000000"><font face="Calibri">Ages 16 and older<o:p></o:p></font></font></span></p>\n<p class="MsoNormal" style="margin: 0in 0in 0pt 0.1in\;">\n	<span style="font-size: 10pt\;"><font color="#000000"><font face="Calibri">The goal of this prenatal/postnatal exercise class is to make moms fit before\, during and after baby!<span style="mso-spacerun: yes\;">&nbsp\; </span>Benefits include improved level of physical conditioning creating strength\, flexibility and stamina during the pregnancy term\, labor and delivery and the postnatal recovery period.<span style="mso-spacerun: yes\;">&nbsp\; </span>Classes will include yoga\, low impact\, sculpting and ball exercise.<span style="mso-spacerun: yes\;">&nbsp\; </span><o:p></o:p></font></font></span></p>\n
LOCATION:Courts Plus
UID:e.333.5212
SEQUENCE:3
DTSTAMP:20260422T180603Z
URL:https://chambermaster.elmhurstchamber.org/events/details/pre-postnatal-fitness-04-03-2013-5212
END:VEVENT

END:VCALENDAR
