BEGIN:VCALENDAR
VERSION:2.0
PRODID:-//ChamberMaster//Event Calendar 2.0//EN
METHOD:PUBLISH
X-PUBLISHED-TTL:P3D
REFRESH-INTERVAL:P3D
CALSCALE:GREGORIAN
BEGIN:VEVENT
DTSTART:20110718T140000Z
DTEND:20110722T200000Z
X-MICROSOFT-CDO-ALLDAYEVENT:FALSE
SUMMARY:Pro Sports Experience Camps
DESCRIPTION:Comprehensive and Accelerated Programs available.  Register now.\n\n\n\nNon-Contact Football Skills for Kids 6-14\n\nLearn to run\, throw\, defend and compete the Chicago Bears way!\n\nAge appropriate\, station-based training delivers results to both advanced players and newcomers.\n\nAll programs provide football instruction\, athletic skill development\, fitness and agility training.\n\nWith patience and encouragement\, kids gain confidence\, develop skills and have fun!\n\nComprehensive Instruction for All Ages.\n\nAccelerated Skills for Experienced Players\n\nFeaturing Bears Camp Heroes like Robin Earl\, Mickey Pruitt and Kris Haines\n\n\n\nVisit www.BearsCamps.com or call 312-226-7776
X-ALT-DESC;FMTTYPE=text/html:Comprehensive and Accelerated Programs available.&nbsp\; Register now.<br />\n<br />\n<strong>Non-Contact Football Skills for Kids 6-14</strong><br />\n<em>Learn to run\, throw\, defend and compete the Chicago Bears way!</em><br />\nAge appropriate\, station-based training delivers results to both advanced players and newcomers.<br />\nAll programs provide football instruction\, athletic skill development\, fitness and agility training.<br />\nWith patience and encouragement\, kids gain confidence\, develop skills and have fun!<br />\nComprehensive Instruction for All Ages.<br />\nAccelerated Skills for Experienced Players<br />\nFeaturing Bears Camp Heroes like Robin Earl\, Mickey Pruitt and Kris Haines<br />\n<br />\nVisit <a href="http://www.BearsCamps.com">www.BearsCamps.com</a> or call 312-226-7776
LOCATION:Langhorst Field Elmhurst College 190 Prospect Ave
UID:e.333.3674
SEQUENCE:3
DTSTAMP:20260425T161529Z
URL:https://chambermaster.elmhurstchamber.org/events/details/pro-sports-experience-camps-07-18-2011-3674
END:VEVENT

END:VCALENDAR
