BEGIN:VCALENDAR
VERSION:2.0
PRODID:-//ChamberMaster//Event Calendar 2.0//EN
METHOD:PUBLISH
X-PUBLISHED-TTL:P3D
REFRESH-INTERVAL:P3D
CALSCALE:GREGORIAN
BEGIN:VEVENT
DTSTART:20121017T223000Z
DTEND:20121017T233000Z
X-MICROSOFT-CDO-ALLDAYEVENT:FALSE
SUMMARY:Professional Speaker Seminar Series
DESCRIPTION:As part of our Professional Speaker Seminar Series\, Elmhurst Chamber of Commerce members will be presenting a one-hour seminar on their products/services. \n\n\n\nAttendance will be free to Chamber members and special guests.
X-ALT-DESC;FMTTYPE=text/html:As part of our Professional Speaker Seminar Series\, Elmhurst Chamber of Commerce members will be presenting a one-hour seminar on their products/services.&nbsp\;<br />\n<br />\nAttendance will be free to Chamber members and special guests.&nbsp\; 
LOCATION:Elmhurst Chamber of Commerce & Industry Community Bank of Elmhurst Board Room 242 N York St.\, Ste 102 Elmhurst\, IL 60126
UID:e.333.4551
SEQUENCE:3
DTSTAMP:20260424T162419Z
URL:https://chambermaster.elmhurstchamber.org/events/details/professional-speaker-seminar-series-10-17-2012-4551
END:VEVENT

END:VCALENDAR
