BEGIN:VCALENDAR
VERSION:2.0
PRODID:-//ChamberMaster//Event Calendar 2.0//EN
METHOD:PUBLISH
X-PUBLISHED-TTL:P3D
REFRESH-INTERVAL:P3D
CALSCALE:GREGORIAN
BEGIN:VEVENT
DTSTART:20131026T160000Z
DTEND:20131026T200000Z
X-MICROSOFT-CDO-ALLDAYEVENT:FALSE
SUMMARY:Pumpkinfest 2013
DESCRIPTION:Historic Mount Emblem Cemetery is hosting a Special American Diabetes Association Fund Raising and Food Drive Event!!!\n\n	Come One\, Come All\, Everyone is Welcomed!!!\n\n	\n		Bring the Kids and have some fun while helping two great causes. We are raising money for the American Diabetes Association (ADA) and collecting food for the Elmhurst/ York/Field Food Pantry. Free candy treats for children in costume. \n\n		\n			Donate to the American Diabetes Associations and get a Free Pumpkin from our Pumpkin patch. Bring non-perishable food items and get a FREE Hay Ride!!! Please double check your donation's expiration dates. Thank you!\n\n			\n\n			Come join us for the cookout.\n\n			\n				Hot Dog\, Chips and Soda: $3.00 \n			\n				Chips: $1.00 \n			\n				Hot Dog: $1.75\n			\n				Any Beverage: $1.00\n\n				\n\n				All funds raised will go to the American Diabetes Association.
X-ALT-DESC;FMTTYPE=text/html:<div>\n	Historic Mount Emblem Cemetery is hosting a Special American Diabetes Association Fund Raising and Food Drive Event!!!<br />\n	Come One\, Come All\, Everyone is Welcomed!!!<br />\n	<div>\n		Bring the Kids and have some fun while helping two great causes. We are raising money for the American Diabetes Association (ADA) and collecting food for the Elmhurst/ York/Field Food Pantry. Free candy treats for children in costume.&nbsp\;<br />\n		<div>\n			Donate to the American Diabetes Associations and get a Free Pumpkin from our Pumpkin patch. Bring non-perishable food items and get a FREE Hay Ride!!! Please double check your donation&rsquo\;s expiration dates. Thank you!<br />\n			<br />\n			Come join us for the cookout.<br />\n			<div>\n				Hot Dog\, Chips and Soda: $3.00&nbsp\;</div>\n			<div>\n				Chips: $1.00&nbsp\;</div>\n			<div>\n				Hot Dog: $1.75</div>\n			<div>\n				Any Beverage: $1.00<br />\n				<br />\n				All funds raised will go to the American Diabetes Association.</div>\n		</div>\n	</div>\n</div>\n<br />\n
LOCATION:Beautiful Mount Emblem Cemetery Located at the corner of Grand Ave & County Line Rd. in Elmhurst\, IL
UID:e.333.5872
SEQUENCE:3
DTSTAMP:20260422T111245Z
URL:https://chambermaster.elmhurstchamber.org/events/details/pumpkinfest-2013-10-26-2013-5872
END:VEVENT

END:VCALENDAR
