BEGIN:VCALENDAR
VERSION:2.0
PRODID:-//ChamberMaster//Event Calendar 2.0//EN
METHOD:PUBLISH
X-PUBLISHED-TTL:P3D
REFRESH-INTERVAL:P3D
CALSCALE:GREGORIAN
BEGIN:VEVENT
DTSTART:20111111T180000Z
DTEND:20111113T220000Z
X-MICROSOFT-CDO-ALLDAYEVENT:FALSE
SUMMARY:Puss In Boots Comes To Elmhurst!
DESCRIPTION:0\n  false\n  \n  \n  18 pt\n  18 pt\n  0\n  0\n  \n  false\n  false\n  false\n  \n   \n   \n   \n   \n  \n \n\n \n \n\n\n /* Style Definitions */\ntable.MsoNormalTable\n	{mso-style-name:"Table Normal"\;\n	mso-tstyle-rowband-size:0\;\n	mso-tstyle-colband-size:0\;\n	mso-style-noshow:yes\;\n	mso-style-parent:""\;\n	mso-padding-alt:0in 5.4pt 0in 5.4pt\;\n	mso-para-margin:0in\;\n	mso-para-margin-bottom:.0001pt\;\n	mso-pagination:widow-orphan\;\n	font-size:12.0pt\;\n	font-family:"Times New Roman"\;\n	mso-ascii-font-family:Cambria\;\n	mso-ascii-theme-font:minor-latin\;\n	mso-fareast-font-family:"Times New Roman"\;\n	mso-fareast-theme-font:minor-fareast\;\n	mso-hansi-font-family:Cambria\;\n	mso-hansi-theme-font:minor-latin\;\n	mso-bidi-font-family:"Times New Roman"\;\n	mso-bidi-theme-font:minor-bidi\;}\n\n\n\n	To help celebrate the opening of the York Theatre's 10th screen and the 100th screen operated by the company\, Classic Cinemas invites everyone to join them in welcoming Shrek's suave\, hip\, sword-fighting pal Puss In Boots to the theatre. Parents are encouraged to bring their cameras to take photos as their kids meet Puss In Boots!  The York Theatre is located at 150 N. York St. in downtown Elmhurst.\n\n	 \n\n	Schedule of Puss In Boots Appearances: \n\n	Friday\, November 11: 12 p.m.   4 p.m.\n\n	Saturday\, November 12: 12 p.m.   4 p.m.\n\n	Sunday\, November 13: 12 p.m.   4 p.m.\n\n	 \n\n	The delightful animated film "Puss In Boots" is presented at the York Theatre in both 3D and standard 2D formats. Showtimes are available at www.classiccinemas.com. "Puss In Boots" tells the hilarious and courageous tale of Puss' early adventures as he teams with Humpty Dumpty and the street-savvy Kitty Softpaws to steal the famed Goose that lays the Golden Eggs. It's the true story of the cat\, the myth\, the legend and the boots!   \n\n	Rated G\; Voices provided by Antonio Banderas\, Salma Hayek and Zach Galifianakis
X-ALT-DESC;FMTTYPE=text/html:<!--[if gte mso 9]><xml>\n <o:OfficeDocumentSettings>\n  <o:AllowPNG/>\n </o:OfficeDocumentSettings>\n</xml><![endif]--><!--[if gte mso 9]><xml>\n <w:WordDocument>\n  <w:Zoom>0</w:Zoom>\n  <w:TrackMoves>false</w:TrackMoves>\n  <w:TrackFormatting/>\n  <w:PunctuationKerning/>\n  <w:DrawingGridHorizontalSpacing>18 pt</w:DrawingGridHorizontalSpacing>\n  <w:DrawingGridVerticalSpacing>18 pt</w:DrawingGridVerticalSpacing>\n  <w:DisplayHorizontalDrawingGridEvery>0</w:DisplayHorizontalDrawingGridEvery>\n  <w:DisplayVerticalDrawingGridEvery>0</w:DisplayVerticalDrawingGridEvery>\n  <w:ValidateAgainstSchemas/>\n  <w:SaveIfXMLInvalid>false</w:SaveIfXMLInvalid>\n  <w:IgnoreMixedContent>false</w:IgnoreMixedContent>\n  <w:AlwaysShowPlaceholderText>false</w:AlwaysShowPlaceholderText>\n  <w:Compatibility>\n   <w:BreakWrappedTables/>\n   <w:DontGrowAutofit/>\n   <w:DontAutofitConstrainedTables/>\n   <w:DontVertAlignInTxbx/>\n  </w:Compatibility>\n </w:WordDocument>\n</xml><![endif]--><!--[if gte mso 9]><xml>\n <w:LatentStyles DefLockedState="false" LatentStyleCount="276">\n </w:LatentStyles>\n</xml><![endif]--><!--[if gte mso 10]>\n<style>\n /* Style Definitions */\ntable.MsoNormalTable\n	{mso-style-name:"Table Normal"\;\n	mso-tstyle-rowband-size:0\;\n	mso-tstyle-colband-size:0\;\n	mso-style-noshow:yes\;\n	mso-style-parent:""\;\n	mso-padding-alt:0in 5.4pt 0in 5.4pt\;\n	mso-para-margin:0in\;\n	mso-para-margin-bottom:.0001pt\;\n	mso-pagination:widow-orphan\;\n	font-size:12.0pt\;\n	font-family:"Times New Roman"\;\n	mso-ascii-font-family:Cambria\;\n	mso-ascii-theme-font:minor-latin\;\n	mso-fareast-font-family:"Times New Roman"\;\n	mso-fareast-theme-font:minor-fareast\;\n	mso-hansi-font-family:Cambria\;\n	mso-hansi-theme-font:minor-latin\;\n	mso-bidi-font-family:"Times New Roman"\;\n	mso-bidi-theme-font:minor-bidi\;}\n</style>\n<![endif]--><!--StartFragment-->\n<p class="MsoNormal" style="margin-right:-27.0pt\;line-height:150%">\n	<span style="font-family:Tahoma">To help celebrate the opening of the York Theatre&rsquo\;s 10<sup>th</sup> screen and the 100<sup>th</sup> screen operated by the company\, Classic Cinemas invites everyone to join them in welcoming Shrek&rsquo\;s suave\, hip\, sword-fighting pal <b style="mso-bidi-font-weight:normal">Puss In Boots to the theatre</b>. Parents are encouraged to bring their cameras to take photos as their kids meet Puss In Boots!<span style="mso-spacerun: yes">&nbsp\; </span>The York Theatre is located at <b style="mso-bidi-font-weight:normal">150 N. York St. in downtown Elmhurst.<o:p></o:p></b></span></p>\n<p class="MsoNormal" style="margin-right:-27.0pt\;line-height:150%">\n	<span style="font-family:Tahoma"><o:p>&nbsp\;</o:p></span></p>\n<p class="MsoNormal" style="margin-right:-27.0pt\;line-height:150%">\n	<span style="font-family:Tahoma">Schedule of Puss In Boots Appearances: <o:p></o:p></span></p>\n<p class="MsoNormal" style="margin-right:-27.0pt\;line-height:150%">\n	<b style="mso-bidi-font-weight:normal"><span style="font-family:Tahoma">Friday\, November 11</span></b><span style="font-family:Tahoma">: 12 p.m. &ndash\; 4 p.m.<o:p></o:p></span></p>\n<p class="MsoNormal" style="margin-right:-27.0pt\;line-height:150%">\n	<b style="mso-bidi-font-weight:normal"><span style="font-family:Tahoma">Saturday\, November 12</span></b><span style="font-family:Tahoma">: 12 p.m. &ndash\; 4 p.m.<o:p></o:p></span></p>\n<p class="MsoNormal" style="margin-right:-27.0pt\;line-height:150%">\n	<b style="mso-bidi-font-weight:normal"><span style="font-family:Tahoma">Sunday\, November 13</span></b><span style="font-family:Tahoma">: 12 p.m. &ndash\; 4 p.m.<o:p></o:p></span></p>\n<p class="MsoNormal" style="margin-right:-27.0pt\;line-height:150%">\n	<span style="font-family:Tahoma"><o:p>&nbsp\;</o:p></span></p>\n<p class="MsoNormal" style="margin-right:-27.0pt\;line-height:150%">\n	<span style="font-family:Tahoma">The delightful animated film &ldquo\;Puss In Boots&rdquo\; is presented at the York Theatre in both 3D and standard 2D formats. Showtimes are available at <a href="http://www.classiccinemas.com">www.classiccinemas.com</a>. &ldquo\;Puss In Boots&rdquo\; tells the hilarious and courageous tale of Puss&#39\; early adventures as he teams with Humpty Dumpty and the street-savvy Kitty Softpaws to steal the famed Goose that lays the Golden Eggs. It&rsquo\;s the true story of the cat\, the myth\, the legend&hellip\;and the boots!<span style="mso-spacerun:\nyes">&nbsp\;&nbsp\; </span><o:p></o:p></span></p>\n<p class="MsoNormal" style="margin-right:-27.0pt\;line-height:150%">\n	<i style="mso-bidi-font-style:normal"><span style="font-family:Tahoma">Rated G\; Voices provided by Antonio Banderas\, Salma Hayek and Zach Galifianakis</span></i><span style="font-family:Tahoma"><o:p></o:p></span></p>\n<!--EndFragment-->
LOCATION:York Theatre
UID:e.333.4717
SEQUENCE:3
DTSTAMP:20260425T115009Z
URL:https://chambermaster.elmhurstchamber.org/events/details/puss-in-boots-comes-to-elmhurst-11-11-2011-4717
END:VEVENT

END:VCALENDAR
