BEGIN:VCALENDAR
VERSION:2.0
PRODID:-//ChamberMaster//Event Calendar 2.0//EN
METHOD:PUBLISH
X-PUBLISHED-TTL:P3D
REFRESH-INTERVAL:P3D
CALSCALE:GREGORIAN
BEGIN:VEVENT
DTSTART:20120830T000000Z
DTEND:20120830T020000Z
X-MICROSOFT-CDO-ALLDAYEVENT:FALSE
SUMMARY:Raise Your Glass to a Greener Future
DESCRIPTION:An Evening of Organic Wine Tasting\n\n\n\nJoin us for organic wine tasting and a discussion on organic\, sustainable\n\nand biodynamic wines. A portion of the proceeds benefits Elmhurst Cool\n\nCities Coalition in our efforts to reduce greenhouse gas emissions\n\nthrough education\, outreach and community action.
X-ALT-DESC;FMTTYPE=text/html:An Evening of Organic Wine Tasting<br />\n<br />\nJoin us for organic wine tasting and a discussion on organic\, sustainable<br />\nand biodynamic wines. A portion of the proceeds benefits Elmhurst Cool<br />\nCities Coalition in our efforts to reduce greenhouse gas emissions<br />\nthrough education\, outreach and community action.
LOCATION:Flight 112 Wine House 112 W. Park\, Ave.\, Elmhurst
UID:e.333.4928
SEQUENCE:3
DTSTAMP:20260424T193924Z
URL:https://chambermaster.elmhurstchamber.org/events/details/raise-your-glass-to-a-greener-future-08-29-2012-4928
END:VEVENT

END:VCALENDAR
