BEGIN:VCALENDAR
VERSION:2.0
PRODID:-//ChamberMaster//Event Calendar 2.0//EN
METHOD:PUBLISH
X-PUBLISHED-TTL:P3D
REFRESH-INTERVAL:P3D
CALSCALE:GREGORIAN
BEGIN:VEVENT
DTSTART:20110409T000000Z
DTEND:20110409T020000Z
X-MICROSOFT-CDO-ALLDAYEVENT:FALSE
SUMMARY:Reception for Spring Members Show
DESCRIPTION:Reception for the Spring Members Show\, featuring a variety of original artwork by the members of the Elmhurst Artists Guild at the EAG Gallery. Show runs from April 5\, 2011 through May 13\, 2011. The public is encouraged to attend the reception to meet the artists and learn about their work. The artworks will be judged and awards bestowed by Nina Weiss\, a nationally recognized landscape artist and instructor at the School of the Art Institute\, Columbia College and Evanston Art Center.
X-ALT-DESC;FMTTYPE=text/html:Reception for the Spring Members Show\, featuring a variety of original artwork by the members of the Elmhurst Artists Guild at the EAG Gallery. Show runs from April 5\, 2011 through May 13\, 2011. The public is encouraged to attend the reception to meet the artists and learn about their work. The artworks will be judged and awards bestowed by Nina Weiss\, a nationally recognized landscape artist and instructor at the School of the Art Institute\, Columbia College and Evanston Art Center.
LOCATION:Elmhurst Artists' Guild Gallery\, Elmhurst Art Museum\, 150 S Cottage Hill\, Elmhurst\, IL 60126
UID:e.333.4155
SEQUENCE:3
DTSTAMP:20260425T204512Z
URL:https://chambermaster.elmhurstchamber.org/events/details/reception-for-spring-members-show-04-08-2011-4155
END:VEVENT

END:VCALENDAR
