BEGIN:VCALENDAR
VERSION:2.0
PRODID:-//ChamberMaster//Event Calendar 2.0//EN
METHOD:PUBLISH
X-PUBLISHED-TTL:P3D
REFRESH-INTERVAL:P3D
CALSCALE:GREGORIAN
BEGIN:VEVENT
DTSTART:20130607T233000Z
DTEND:20130608T040000Z
X-MICROSOFT-CDO-ALLDAYEVENT:FALSE
SUMMARY:Relay for Life
DESCRIPTION:For more information about the event call (630) 932-1141 or visit their website online at www.RelayforLifeElmhurst.com
X-ALT-DESC;FMTTYPE=text/html:<p class="MsoNormal" style="margin: 0in 0in 0pt 0.1in\;">\n	<font color="#000000" face="Calibri" size="3">For more information about the event call (630) 932-1141 or visit their website online at </font><a href="http://www.relayforlifeelmhurst.com/"><a href="http://www.relayforlifeelmhurst.com/"><font color="#0000ff" face="Calibri" size="3">www.RelayforLifeElmhurst.com</font></a></a></p>\n
LOCATION:The Hub at Beren's Park
UID:e.333.5294
SEQUENCE:3
DTSTAMP:20260422T163648Z
URL:https://chambermaster.elmhurstchamber.org/events/details/relay-for-life-06-07-2013-5294
END:VEVENT

END:VCALENDAR
