BEGIN:VCALENDAR
VERSION:2.0
PRODID:-//ChamberMaster//Event Calendar 2.0//EN
METHOD:PUBLISH
X-PUBLISHED-TTL:P3D
REFRESH-INTERVAL:P3D
CALSCALE:GREGORIAN
BEGIN:VEVENT
DTSTART;VALUE=DATE:20110619
DTEND;VALUE=DATE:20110620
TRANSP:TRANSPARENT
X-MICROSOFT-CDO-ALLDAYEVENT:TRUE
SUMMARY:Remember Father's Day--Edible Arrangements Special
DESCRIPTION:$5 off any basket for Father's Day\n\n\n\nCODE: ELFD0711
X-ALT-DESC;FMTTYPE=text/html:$5 off any basket for Father&#39\;s Day<br />\n<br />\nCODE: ELFD0711
LOCATION:Edible Arrangements 206 N York Rd. Elmhurst\, IL 60126
UID:e.333.2707
SEQUENCE:3
DTSTAMP:20260425T174517Z
URL:https://chambermaster.elmhurstchamber.org/events/details/remember-father-s-day-edible-arrangements-special-06-19-2011-2707
END:VEVENT

END:VCALENDAR
